Workbook
Name 湯品: [1]菜單!$F$2:$F$46
Name 湯食: [1]菜單!$G$2:$G$51

Sheet 月菜單
A1: 晶品食品有限公司 林邊國中 115年10月 午餐菜單 (本校一律使用國產豬肉食材)
A2: 日期 | B2: 星期 | C2: 主食 | D2: 副食 | G2: 湯 | H2: 附註 | I2: 全穀根莖類(份) | J2: 豆魚蛋肉類(份) | K2: 蔬菜類(份) | L2: 油脂與堅果種子類(份) | M2: 水果類(份) | N2: 乳品類(份) | O2: 熱量(kcal)
A3: 10/1 | B3: 四 | C3: =第1週!W5 -> 白米飯 | D3: =第1週!W7 -> 蔥爆雞丁(炒) | E3: =第1週!W12 -> 蕃茄炒蛋 | F3: =第1週!W17 -> 有機蔬菜 | G3: =第1週!W22 -> 肉骨茶湯 | H3: 水果 | I3: =第1週!Y30 -> 4 | J3: =第1週!Y31 -> 2.8787013 | K3: =第1週!Y32 -> 1.63 | L3: 2.5 | M3: 1 | O3: =I3*70+J3*75+K3*25+L3*45+M3*60 -> 709.1526
A4: 10/2 | B4: 五 | C4: =第1週!AD5 -> 糙米飯 | D4: =第1週!AD7 -> 嫩煎豬排 | E4: =第1週!AD12 -> 香菇白菜滷(煮) | F4: =第1週!AD17 -> 有機蔬菜 | G4: =第1週!AD22 -> 冬瓜魚丸湯 | I4: =第1週!AF30 -> 4 | J4: =第1週!AF31 -> 2.6155844 | K4: =第1週!AF32 -> 1.5 | L4: 2.5 | O4: =I4*70+J4*75+K4*25+L4*45+M4*60 -> 626.16883
A5: 10/5 | B5: 一 | C5: =第2週!B5 -> 糙米飯 | D5: =第2週!B7 -> 蠔油燒鴨(煮) | E5: =第2週!B12 -> 紅蘿蔔炒蛋(炒) | F5: =第2週!B17 -> 有機蔬菜 | G5: =第2週!B22 -> 蔬菜味噌湯 | I5: =第2週!D30 -> 4 | J5: =第2週!D31 -> 2.3915584 | K5: =第2週!D32 -> 1.6 | L5: 2.5 | O5: =第2週!D36 -> 499.36688
A6: 10/6 | B6: 二 | C6: =第2週!I5 -> 鐵板麵 | D6: =第2週!I7 -> 義式肉醬麵 | E6: =第2週!I12 -> 水煮蛋(煮) | F6: =第2週!I17 -> 0 | G6: =第2週!I22 -> 玉米濃湯 | H6: 鮮奶 | I6: =第2週!K30 -> 5.3431373 | J6: =第2週!K31 -> 3.187013 | K6: =第2週!K32 -> 1.282 | L6: 2.5 | M6: 1 | O6: =I6*70+J6*75+K6*25+L6*45+M6*60 -> 817.59558
A7: 10/7 | B7: 三 | C7: =第2週!P5 -> 糙米飯 | D7: =第2週!P7 -> 南瓜燒肉(煮) | E7: =第2週!P12 -> 螞蟻上樹(炒) | F7: =第2週!P17 -> 有機蔬菜 | G7: =第2週!P22 -> 珍珠奶茶 | I7: =第2週!R30 -> 6.3529412 | J7: =第2週!R31 -> 2.3142857 | K7: =第2週!R32 -> 1.25 | L7: 2.5 | O7: =I7*70+J7*75+K7*25+L7*45+M7*60 -> 762.02731
A8: 10/8 | B8: 四 | C8: =第2週!W5 -> 白米飯 | D8: =第2週!W7 -> 京醬肉絲(炒) | E8: =第2週!W12 -> 黃瓜雞片(燴) | F8: =第2週!W17 -> 有機蔬菜 | G8: =第2週!W22 -> 榨菜肉絲湯 | H8: 水果 | I8: =第2週!Y30 -> 4 | J8: =第2週!Y31 -> 4.5142857 | K8: =第2週!Y32 -> 1.6 | L8: 2.5 | M8: 1 | O8: =第2週!Y36 -> 831.07143
A9: 10/12 | B9: 一 | C9: =第3週!B5 -> 糙米飯 | D9: =第3週!B7 -> 糖醋雞丁(煮) | E9: =第3週!B12 -> 椰香南瓜咖哩 | F9: =第3週!B18 -> 有機蔬菜 | G9: =第3週!B23 -> 番茄豆腐湯 | I9: =第3週!D31 -> 4.6928105 | J9: =第3週!D32 -> 2.5285714 | K9: =第3週!D33 -> 1.65 | L9: 2.5 | O9: =第3週!D37 -> 671.88959
A10: 10/13 | B10: 二 | C10: =第3週!I5 -> 白米飯 | D10: =第3週!I7 -> 什錦炒飯(炒) | F10: =第3週!I18 -> 香菇肉羹湯 | H10: 鮮奶 | I10: =第3週!K31 -> 4 | J10: =第3週!K32 -> 1.2077922 | K10: =第3週!K33 -> 1.48 | L10: =第3週!K36 -> 2.3 | M10: 1 | O10: =I10*70+J10*75+K10*25+L10*45+M10*60 -> 571.08442
A11: 10/14 | B11: 三 | C11: =第3週!P5 -> 糙米飯 | D11: =第3週!P7 -> 三杯雞(炒) | E11: =第3週!P12 -> 肉燥銀芽（炒） | F11: =第3週!P18 -> 有機蔬菜 | G11: =第3週!P23 -> 黃瓜排骨湯 | H11: 豆奶 | I11: =第3週!R31 -> 4.4857143 | J11: =第3週!R32 -> 2.28 | K11: =第3週!R33 -> 1.3 | L11: =第3週!R36 -> 2.4 | O11: =第3週!R37 -> 625.5
A12: 10/15 | B12: 四 | C12: =第3週!W5 -> 白米飯 | D12: =第3週!W7 -> 壽喜燒肉片(煮) | E12: =第3週!W12 -> 肉燥銀芽（炒） | F12: =第3週!W18 -> 有機蔬菜 | G12: =第3週!W23 -> 蘿蔔玉米湯 | H12: 水果 | I12: =第3週!Y31 -> 4.1176471 | J12: =第3週!Y32 -> 2.8571429 | K12: =第3週!Y33 -> 1.6 | L12: 2.5 | M12: 1 | O12: =I12*70+J12*75+K12*25+L12*45+M12*60 -> 715.02101
A13: 10/16 | B13: 五 | C13: =第1週!AD5 -> 糙米飯 | D13: =第3週!AD7 -> 鹹酥雞(炸) | E13: =第3週!AD12 -> 魚香茄子(煮) | F13: =第3週!AD18 -> 有機青菜 | G13: =第3週!AD23 -> 冬瓜雞肉湯 | I13: =第3週!AF31 -> 4 | J13: =第3週!AF32 -> 2.5214286 | K13: =第3週!AF33 -> 1.6 | L13: 2.5 | O13: =I13*70+J13*75+K13*25+L13*45+M13*60 -> 621.60714
A14: 10/19 | B14: 一 | C14: =第4週!B5 -> 糙米飯 | D14: =第4週!B7 -> 咖哩豬肉(燴) | E14: =第4週!B12 -> 麻婆豆腐(煮) | F14: =第4週!B17 -> 有機蔬菜 | G14: =第4週!B22 -> 蘿蔔豆皮湯 | I14: =第4週!D30 -> 4.3333333 | J14: =第4週!D31 -> 2.7266667 | K14: =第4週!D32 -> 1.15 | L14: 2.5 | O14: =I14*70+J14*75+K14*25+L14*45+M14*60 -> 649.08333
A15: 10/20 | B15: 二 | C15: =第4週!I5 -> 米粉 | D15: =第4週!I7 -> 米粉羹 | F15: =第4週!I18 -> 奶黃包(蒸) | H15: 鮮奶 | I15: =第4週!K30 -> 4.8333333 | J15: =第4週!K31 -> 2.5324675 | K15: =第4週!K32 -> 1.55 | L15: 2.5 | M15: 1 | O15: =I15*70+J15*75+K15*25+L15*45+M15*60 -> 739.5184
A16: 10/21 | B16: 三 | C16: =第4週!P5 -> 糙米飯 | D16: =第4週!P7 -> 豆豉魚丁(炒) | E16: =第4週!P12 -> 關東煮(煮) | F16: =第4週!P17 -> 有機蔬菜 | G16: =第4週!P22 -> 海芽蛋花湯 | I16: =第4週!R30 -> 4.5084034 | J16: =第4週!R31 -> 2.361039 | K16: =第4週!R32 -> 1.68 | L16: 2.5 | O16: =I16*70+J16*75+K16*25+L16*45+M16*60 -> 647.16616
A17: 10/22 | B17: 四 | C17: =第4週!W5 -> 白米飯 | D17: =第4週!W7 -> 泰式檸檬雞(煮) | E17: =第4週!W12 -> 木須炒蛋(炒) | F17: =第4週!W17 -> 有機蔬菜 | G17: =第4週!W22 -> 玉米排骨湯 | H17: 水果 | I17: =第4週!Y30 -> 4.1764706 | J17: =第4週!Y31 -> 2.7681818 | K17: =第4週!Y32 -> 1.76 | L17: 2.5 | M17: 1 | O17: =I17*70+J17*75+K17*25+L17*45+M17*60 -> 716.46658
A18: 10/23 | B18: 五 | C18: =第4週!AD5 -> 糙米飯 | D18: =第4週!AD7 -> 香酥雞翅(炸) | E18: =第4週!AD12 -> 芹菜豆乾(炒) | F18: =第4週!AD17 -> 有機蔬菜 | G18: =第4週!AD22 -> 綠豆湯 | I18: =第4週!AF30 -> 5 | J18: =第4週!AF31 -> 3.1142857 | K18: =第4週!AF32 -> 1.15 | L18: 2.5 | O18: =第4週!AF36 -> 0
A19: 10/27 | B19: 二 | C19: =第5週!I5 -> 白米飯 | D19: =第5週!I7 -> 什錦海鮮湯飯 | F19: =第5週!I17 -> 滷蛋 | H19: 鮮奶 | I19: =第5週!K30 -> 4 | J19: =第5週!K31 -> 2.2 | K19: =第5週!K32 -> 1.26 | L19: =第5週!K35 -> 2.5 | M19: 1 | O19: =I19*70+J19*75+K19*25+L19*45+M19*60 -> 649
A20: 10/28 | B20: 三 | C20: =第5週!P5 -> 糙米飯 | D20: =第5週!P7 -> 羅宋燒雞(煮) | E20: =第5週!P12 -> 白菜肉絲(炒) | F20: =第5週!P17 -> 有機蔬菜 | G20: =第5週!P22 -> 甜薯蛋花湯 | I20: =第5週!R30 -> 4.4722222 | J20: =第5週!R31 -> 2.5701299 | K20: =第5週!R32 -> 1.5 | L20: =第5週!R35 -> 2.5 | O20: =I20*70+J20*75+K20*25+L20*45+M20*60 -> 655.8153
A21: 10/29 | B21: 四 | C21: =第5週!W5 -> 白米飯 | D21: =第5週!W7 -> 韓式泡菜鍋(煮) | E21: =第5週!W12 -> 玉米炒蛋(炒) | F21: =第5週!W17 -> 有機蔬菜 | G21: =第5週!W22 -> 黃瓜雞肉湯 | H21: 水果 | I21: =第5週!Y30 -> 5.0686275 | J21: =第5週!Y31 -> 2.7201299 | K21: =第5週!Y32 -> 1.5 | L21: =第5週!Y35 -> 2.5 | M21: 1 | O21: =I21*70+J21*75+K21*25+L21*45+M21*60 -> 768.81366
A22: 10/30 | B22: 五 | C22: =第5週!AD5 -> 糙米飯 | D22: =第5週!AD7 -> 蜜汁雞腿 | E22: =第5週!AD12 -> 玉米炒蛋(炒) | F22: =第5週!AD17 -> 有機蔬菜 | G22: =第5週!AD22 -> 海芽肉絲湯 | I22: =第5週!AF30 -> 4.2352941 | J22: =第5週!AF31 -> 4.4415584 | K22: =第5週!AF32 -> 0.95 | L22: 2.5 | M22: 1 | O22: =第5週!AF36 -> 825.83747
A23: 營養師: | D23: 午餐秘書: | G23: 主任: | K23: 校長:
A24: 本公司一律使用國產豬、牛肉食材
A25: ※每日供應三菜一湯，若遇特殊情形(如颱風天、缺貨、停水【電】)請校方午秘委員允許廠商更改菜單，謝謝!
A26: ※每週1次有機蔬菜。

Sheet 第1週
A1: 屏東縣 林邊國中 115年10月第一週學生午餐食譜(自設廚房)
A2: 供應人數：460人 供應廠商:晶品食品有限公司 | W2: 營養師:陳采瑜 | AD2: 廠商電話:08-7369730
A3: 日期 | K3: 星期二 | R3: 星期三 | W3: 45200 | Y3: 星期四 | AD3: 45201 | AF3: 星期五
A4: 項目 | I4: 菜名/烹調法 | J4: 食材 | K4: 每人(g) | L4: c | M4: p | N4: v | P4: 菜名/烹調法 | Q4: 食材 | R4: 每人(g) | S4: c | T4: p | U4: v | V4: 學校採購量(kg) | W4: 菜名/烹調法 | X4: 食材 | Y4: 每人(g) | Z4: c | AA4: p | AB4: v | AC4: 學校採購量(kg) | AD4: 菜名/烹調法 | AE4: 食材 | AF4: 每人(g) | AG4: c | AH4: p | AI4: v | AJ4: 學校採購量(kg)
A5: 主食 | W5: 白米飯 | X5: 白米 | Y5: 80 | Z5: =Y5/20 -> 4 | AD5: 糙米飯 | AE5: 白米 | AF5: 60 | AG5: =AF5/20 -> 3
AE6: 糙米 | AF6: 20 | AG6: =AF6/20 -> 1
A7: 副 食一 | W7: 蔥爆雞丁(炒) | X7: 雞腿丁 | Y7: 75 | AA7: =Y7*0.9/35 -> 1.9285714 | AD7: 嫩煎豬排 | AE7: 里肌肉排 | AF7: 70 | AH7: =AF7/35 -> 2
X8: 青蔥 | Y8: 3 | AB8: =Y8/100 -> 0.03 | AE8: (每人一片)
X9: 洋蔥 | Y9: 15 | AB9: =Y9/100 -> 0.15
X10: 紅蘿蔔 | Y10: 5 | AB10: =Y10/100 -> 0.05
A12: 副 食二 | W12: 蕃茄炒蛋 | X12: 雞蛋 | Y12: 40 | AA12: =Y12/55 -> 0.72727273 | AD12: 香菇白菜滷(煮) | AE12: 紅蘿蔔 | AF12: 5 | AI12: =AF12/100 -> 0.05
X13: 蕃茄 | Y13: 35 | AB13: =Y13/100 -> 0.35 | AE13: 香菇 | AF13: 10 | AI13: =AF13/100 -> 0.1
X14: 青蔥 | Y14: 適量 | AE14: 山東白 | AF14: 40 | AI14: =AF14/100 -> 0.4
AE15: 絞肉 | AF15: 15 | AH15: =AF15*0.8/35 -> 0.34285714
A17: 副 食三 | W17: 有機蔬菜 | X17: 深色青菜 | Y17: 75 | AB17: =Y17/100 -> 0.75 | AD17: 有機蔬菜 | AE17: 深色青菜 | AF17: 75 | AI17: =AF17/100 -> 0.75
X18: 高麗菜、絲瓜、大白菜、豆芽菜、鵝白菜、西芹 | AE18: 高麗菜、絲瓜、大白菜、豆芽菜、鵝白菜、西芹
A22: 湯 | W22: 肉骨茶湯 | X22: 山東白 | Y22: 30 | AB22: =Y22/100 -> 0.3 | AD22: 冬瓜魚丸湯 | AE22: 冬瓜 | AF22: 20 | AI22: =AF22/100 -> 0.2
X23: 龍骨 | Y23: 12 | AA23: =Y23*0.65/35 -> 0.22285714 | AE23: 魚丸 | AF23: 15 | AH23: =AF23/55 -> 0.27272727
X24: 肉骨茶包 | Y24: 適量 | AE24: 冬菜 | AF24: 適量
A27: 水果 | B27: 水果 | I27: 水果 | P27: 水果 | W27: 水果 | X27: 水果 | Y27: 1份 | AD27: 水果
A28: 其他 | B28: 其他 | I28: 其他 | P28: 其他 | W28: 其他 | AD28: 其他
A29: 營養供應比例 | B29: 年級 | E29: =SUM(E5:E28) -> 0 | F29: =SUM(F5:F28) -> 0 | G29: =SUM(G5:G28) -> 0 | I29: 年級 | L29: =SUM(L5:L28) -> 0 | M29: =SUM(M5:M28) -> 0 | N29: =SUM(N8:N28) -> 0 | P29: 年級 | W29: 年級 | Z29: =SUM(Z5:Z28) -> 4 | AA29: =SUM(AA5:AA28) -> 2.8787013 | AB29: =SUM(AB5:AB28) -> 1.63 | AD29: 年級 | AG29: =SUM(AG5:AG28) -> 4 | AH29: =SUM(AH5:AH28) -> 2.6155844 | AI29: =SUM(AI5:AI28) -> 1.5
B30: 全榖雜糧類(份) | D30: =E29 -> 0 | I30: 全榖雜糧類(份) | K30: =L29 -> 0 | P30: 全榖雜糧類(份) | R30: =S29 -> 0 | W30: 全榖雜糧類(份) | Y30: =Z29 -> 4 | AD30: 全榖雜糧類(份) | AF30: =AG29 -> 4
B31: 豆魚蛋肉類(份) | D31: =F29 -> 0 | I31: 豆魚蛋肉類(份) | K31: =M29 -> 0 | P31: 豆魚蛋肉類(份) | R31: =T29 -> 0 | W31: 豆魚蛋肉類(份) | Y31: =AA29 -> 2.8787013 | AD31: 豆魚蛋肉類(份) | AF31: =AH29 -> 2.6155844
B32: 蔬菜類(份) | D32: =G29 -> 0 | I32: 蔬菜類(份) | K32: =N29 -> 0 | P32: 蔬菜類(份) | R32: =U29 -> 0 | W32: 蔬菜類(份) | Y32: =AB29 -> 1.63 | AD32: 蔬菜類(份) | AF32: =AI29 -> 1.5
B33: 水果類(份) | I33: 水果類(份) | P33: 水果類(份) | W33: 水果類(份) | Y33: 1 | AD33: 水果類(份)
B34: 乳品類(份) | I34: 乳品類(份) | P34: 乳品類(份) | W34: 乳品類(份) | AD34: 乳品類(份)
B35: 油脂與堅果種子類(份) | I35: 油脂與堅果種子類(份) | P35: 油脂與堅果種子類(份) | W35: 油脂與堅果種子類(份) | Y35: 2.5 | AD35: 油脂與堅果種子類(份) | AF35: 2.5
B36: 熱量(大卡) | D36: 0 | I36: 熱量(大卡) | K36: =K30*70+K31*75+K32*25+K33*60+K34*120+K35*45 -> 0 | P36: 熱量(大卡) | R36: =R30*70+R31*75+R32*25+R33*60+R34*120+R35*45 -> 0 | W36: 熱量(大卡) | Y36: =Y30*70+Y31*75+Y32*25+Y33*60+Y34*120+Y35*45 -> 709.1526 | AD36: 熱量(大卡) | AF36: =AF30*70+AF31*75+AF32*25+AF33*60+AF34*120+AF35*45 -> 626.16883
A37: 營養師:陳采瑜 | I37: 午餐秘書: | Y37: 校長:
A38: 本公司一律使用國產豬、牛肉食材
A39: ※每日供應三菜一湯，若遇特殊情形(如颱風天、缺貨、停水【電】)請校方午秘委員允許廠商更改菜單，謝謝!
A40: ※每週1次有機蔬菜。

Sheet Sheet1

Sheet Sheet2

Sheet Sheet3

Sheet 第2週
A1: 屏東縣 林邊國中115年10月第二週學生午餐食譜(自設廚房)
A2: 供應人數：460人 供應廠商:晶品食品有限公司 | W2: 營養師:陳采瑜 | AD2: 廠商電話:08-7369730
A3: 日期 | B3: 45204 | D3: 星期一 | I3: 45205 | K3: 星期二 | P3: 45206 | R3: 星期三 | W3: 45207 | Y3: 星期四 | AD3: 45208 | AF3: 星期五
A4: 項目 | B4: 菜名/烹調法 | C4: 食材 | D4: 每人(g) | E4: c | F4: p | G4: v | H4: 學校採購量(kg) | I4: 菜名/烹調法 | J4: 食材 | K4: 每人(g) | L4: c | M4: p | N4: v | O4: 學校採購量(kg) | P4: 菜名/烹調法 | Q4: 食材 | R4: 每人(g) | S4: c | T4: p | U4: v | V4: 學校採購量(kg) | W4: 菜名/烹調法 | X4: 食材 | Y4: 每人(g) | Z4: c | AA4: p | AB4: v | AC4: 學校採購量(kg) | AD4: 菜名/烹調法 | AE4: 食材 | AF4: 每人(g) | AG4: c | AH4: p | AI4: v | AJ4: 學校採購量(kg)
A5: 主食 | B5: 糙米飯 | C5: 白米 | D5: 60 | E5: =D5/20 -> 3 | I5: 鐵板麵 | J5: 牛排面 | K5: 150 | L5: =K5/30 -> 5 | P5: 糙米飯 | Q5: 白米 | R5: 60 | S5: =R5/20 -> 3 | W5: 白米飯 | X5: 白米 | Y5: 80 | Z5: =Y5/20 -> 4
C6: 糙米 | D6: 20 | E6: =D6/20 -> 1 | Q6: 糙米 | R6: 20 | S6: =R6/20 -> 1
A7: 副 食一 | B7: 蠔油燒鴨(煮) | C7: 鴨肉 | D7: 80 | F7: =D7*0.65/35 -> 1.4857143 | I7: 義式肉醬麵 | J7: 三色豆 | K7: 20 | N7: =K7*0.66/100 -> 0.132 | P7: 南瓜燒肉(煮) | Q7: 肉丁 | R7: 65 | T7: =R7/35 -> 1.8571429 | W7: 京醬肉絲(炒) | X7: 肉絲 | Y7: 70 | AA7: =Y7/35 -> 2 | AD7: 國慶日
C8: 滷包 | D8: 1 | J8: 絞肉 | K8: 60 | M8: =K8/35 -> 1.7142857 | Q8: 南瓜 | R8: 30 | S8: =R8/85 -> 0.35294118 | X8: 洋蔥 | Y8: 30 | AB8: =Y8/100 -> 0.3
C9: 薑片 | D9: 0.5 | J9: 洋蔥 | K9: 30 | N9: =K9/100 -> 0.3 | Q9: 青蔥 | R9: 適量 | X9: 豆干絲 | Y9: 15 | AA9: =Y9/35 -> 0.42857143
C10: 冬瓜 | D10: 30 | G10: =D10/100 -> 0.3 | J10: 番茄 | K10: 20 | N10: =K10/100 -> 0.2 | Q10: 洋蔥 | R10: 25 | U10: =R10/100 -> 0.25 | X10: 甜麵瓣 | Y10: 適量
J11: 綠花椰 | K11: 40 | N11: =K11/100 -> 0.4
A12: 副 食二 | B12: 紅蘿蔔炒蛋(炒) | C12: 紅蘿蔔 | D12: 30 | G12: =D12/100 -> 0.3 | I12: 水煮蛋(煮) | J12: 雞蛋 | K12: 60 | M12: =K12*0.7/35 -> 1.2 | P12: 螞蟻上樹(炒) | Q12: 綠豆芽 | R12: 25 | U12: =R12/100 -> 0.25 | W12: 黃瓜雞片(燴) | X12: 大黃瓜 | Y12: 65 | AA12: =Y12/35 -> 1.8571429
C13: 雞蛋 | D13: 40 | F13: =D13/55 -> 0.72727273 | Q13: 絞肉 | R13: 20 | T13: =R13*0.8/35 -> 0.45714286 | X13: 紅蘿蔔 | Y13: 5 | AB13: =Y13/100 -> 0.05
C14: 青蔥 | D14: 1 | Q14: 青蔥 | R14: 1 | X14: 雞胸丁 | Y14: 30 | AB14: =Y14/100 -> 0.3
Q15: 冬粉 | R15: 15 | S15: =R15/15 -> 1
A17: 副 食三 | B17: 有機蔬菜 | C17: 深色青菜 | D17: 75 | G17: =D17/100 -> 0.75 | P17: 有機蔬菜 | Q17: 深色青菜 | R17: 75 | U17: =R17/100 -> 0.75 | W17: 有機蔬菜 | X17: 深色青菜 | Y17: 75 | AB17: =Y17/100 -> 0.75
C18: 高麗菜、絲瓜、大白菜、豆芽菜、鵝白菜、西芹 | Q18: 高麗菜、絲瓜、大白菜、豆芽菜、鵝白菜、西芹 | X18: 地瓜葉、青江菜、菠菜、韭菜花、大.小黃瓜、芥藍、空心菜、雪裡紅、杏菜、油菜、菜豆
A22: 湯 | B22: 蔬菜味噌湯 | C22: 高麗菜 | D22: 25 | G22: =D22/100 -> 0.25 | I22: 玉米濃湯 | J22: 玉米 | K22: 15 | L22: =K22/85 -> 0.17647059 | P22: 珍珠奶茶 | Q22: 粉圓 | R22: 15 | S22: =R22/15 -> 1 | W22: 榨菜肉絲湯 | X22: 榨菜 | Y22: 20 | AB22: =Y22/100 -> 0.2
C23: 味噌 | D23: 適量 | J23: 馬鈴薯丁 | K23: 15 | L23: =K23/90 -> 0.16666667 | Q23: 紅茶包 | R23: 適量 | X23: 肉絲 | Y23: 8 | AA23: =Y23/35 -> 0.22857143
C24: 柴魚 | D24: 適量 | J24: 雞蛋 | K24: 15 | M24: =K24/55 -> 0.27272727 | Q24: 保久乳 | R24: 15 | X24: 薑絲 | Y24: 適量
C25: 豆腐 | D25: 25 | F25: =D25/140 -> 0.17857143 | J25: 洋蔥 | K25: 15 | N25: =K25/100 -> 0.15
J26: 紅蘿蔔丁 | K26: 10 | N26: =K26/100 -> 0.1
A27: 水果 | B27: 水果 | I27: 水果 | J27: 鮮奶 | K27: 1份 | P27: 水果 | W27: 水果 | X27: 水果 | Y27: 1份
A28: 其他 | B28: 其他 | I28: 其他 | P28: 其他 | W28: 其他
A29: 營養供應比例 | B29: 年級 | E29: =SUM(E5:E28) -> 4 | F29: =SUM(F5:F28) -> 2.3915584 | G29: =SUM(G5:G28) -> 1.6 | I29: 年級 | L29: =SUM(L5:L28) -> 5.3431373 | M29: =SUM(M5:M28) -> 3.187013 | N29: =SUM(N5:N28) -> 1.282 | P29: 年級 | S29: =SUM(S5:S27) -> 6.3529412 | T29: =SUM(T5:T28) -> 2.3142857 | U29: =SUM(U5:U25) -> 1.25 | W29: 年級 | Z29: =SUM(Z5:Z27) -> 4 | AA29: =SUM(AA5:AA28) -> 4.5142857 | AB29: =SUM(AB5:AB25) -> 1.6 | AD29: 年級 | AG29: =SUM(AG5:AG27) -> 0 | AH29: =SUM(AH5:AH27) -> 0 | AI29: =SUM(AI5:AI27) -> 0
B30: 全榖雜糧類(份) | D30: =E29 -> 4 | I30: 全榖雜糧類(份) | K30: =L29 -> 5.3431373 | P30: 全榖雜糧類(份) | R30: =S29 -> 6.3529412 | W30: 全榖雜糧類(份) | Y30: =Z29 -> 4 | AD30: 全榖雜糧類(份)
B31: 豆魚蛋肉類(份) | D31: =F29 -> 2.3915584 | I31: 豆魚蛋肉類(份) | K31: =M29 -> 3.187013 | P31: 豆魚蛋肉類(份) | R31: =T29 -> 2.3142857 | W31: 豆魚蛋肉類(份) | Y31: =AA29 -> 4.5142857 | AD31: 豆魚蛋肉類(份)
B32: 蔬菜類(份) | D32: =G29 -> 1.6 | I32: 蔬菜類(份) | K32: =N29 -> 1.282 | P32: 蔬菜類(份) | R32: =U29 -> 1.25 | W32: 蔬菜類(份) | Y32: =AB29 -> 1.6 | AD32: 蔬菜類(份)
B33: 水果類(份) | I33: 水果類(份) | P33: 水果類(份) | W33: 水果類(份) | Y33: 1 | AD33: 水果類(份)
B34: 乳品類(份) | I34: 乳品類(份) | K34: 1 | P34: 乳品類(份) | W34: 乳品類(份) | AD34: 乳品類(份)
B35: 油脂與堅果種子類(份) | I35: 油脂與堅果種子類(份) | K35: 2.5 | P35: 油脂與堅果種子類(份) | R35: 2.5 | W35: 油脂與堅果種子類(份) | Y35: 2.5 | AD35: 油脂與堅果種子類(份)
B36: 熱量(大卡) | D36: =D30*70+D31*75+D32*25+D33*60+D34*120+D35*45 -> 499.36688 | I36: 熱量(大卡) | K36: =K30*70+K31*75+K32*25+K33*60+K34*120+K35*45 -> 877.59558 | P36: 熱量(大卡) | R36: =R30*70+R31*75+R32*25+R33*60+R34*120+R35*45 -> 762.02731 | W36: 熱量(大卡) | Y36: =Y30*70+Y31*75+Y32*25+Y33*60+Y34*120+Y35*45 -> 831.07143 | AD36: 熱量(大卡)
A37: 營養師:陳采瑜 | I37: 午餐秘書: | Y37: 校長:
A38: 本公司一律使用國產豬、牛肉食材
A39: ※每日供應三菜一湯，若遇特殊情形(如颱風天、缺貨、停水【電】)請校方午秘委員允許廠商更改菜單，謝謝!
A40: ※每週1次有機蔬菜。
T42: =Q42/100 -> 0
S45: =Q45/140 -> 0

Sheet 第3週
A1: 屏東縣 林邊國中115年10月第三週學生午餐食譜(自設廚房)
A2: 供應人數：460人 供應廠商:晶品食品有限公司 | W2: 營養師:陳采瑜 | AD2: 廠商電話:08-7369730
A3: 日期 | B3: 2023/10/12(蔬食日) | D3: 星期一 | I3: 45212 | K3: 星期二 | P3: 45213 | R3: 星期三 | W3: 45214 | Y3: 星期四 | AD3: 45215 | AF3: 星期五
A4: 項目 | B4: 菜名/烹調法 | C4: 材料 | D4: 每人(g) | E4: c | F4: p | G4: v | H4: 學校採購量(kg) | I4: 菜名/烹調法 | J4: 食材 | K4: 每人(g) | L4: c | M4: p | N4: v | O4: 學校採購量(kg) | P4: 菜名/烹調法 | Q4: 食材 | R4: 每人(g) | S4: c | T4: p | U4: v | V4: 學校採購量(kg) | W4: 菜名/烹調法 | X4: 食材 | Y4: 每人(g) | Z4: c | AA4: p | AB4: v | AC4: 學校採購量(kg) | AD4: 菜名/烹調法 | AE4: 食材 | AF4: 每人(g) | AG4: c | AH4: p | AI4: v | AJ4: 學校採購量(kg)
A5: 主食 | B5: 糙米飯 | C5: 白米 | D5: 60 | E5: =D5/20 -> 3 | I5: 白米飯 | J5: 白米 | K5: 80 | L5: =K5/20 -> 4 | P5: 糙米飯 | Q5: 白米 | R5: 60 | S5: =R5/20 -> 3 | W5: 白米飯 | X5: 白米 | Y5: 80 | Z5: =Y5/20 -> 4 | AD5: 糙米飯 | AE5: 白米 | AF5: 60 | AG5: =AF5/20 -> 3
C6: 糙米 | D6: 20 | E6: =D6/20 -> 1 | Q6: 糙米 | R6: 20 | S6: =R6/20 -> 1 | AE6: 糙米 | AF6: 20 | AG6: =AF6/20 -> 1
A7: 副 食一 | B7: 糖醋雞丁(煮) | C7: 雞胸丁 | D7: 75 | F7: =D7*0.8/35 -> 1.7142857 | I7: 什錦炒飯(炒) | J7: 紅蘿蔔 | K7: 10 | N7: =K9/100 -> 0.15 | P7: 三杯雞(炒) | Q7: 光雞丁 | R7: 80 | T7: =R7*0.65/35 -> 1.4857143 | W7: 壽喜燒肉片(煮) | X7: 肉片 | Y7: 65 | AA7: =Y7/35 -> 1.8571429 | AD7: 鹹酥雞(炸) | AE7: 光雞丁 | AF7: 90 | AH7: =AF7*0.65/35 -> 1.6714286
C8: 彩椒 | D8: 10 | G8: =D8/100 -> 0.1 | J8: 肉絲 | K8: 20 | M8: =K8/35 -> 0.57142857 | Q8: 薑片 | R8: 適量 | X8: 高麗菜 | Y8: 20 | AB8: =Y8/100 -> 0.2 | AE8: 米血 | AF8: 20
C9: 洋蔥 | D9: 25 | G9: =D9/100 -> 0.25 | J9: 洋蔥 | K9: 15 | N9: =K9/100 -> 0.15 | Q9: 九層塔 | R9: 適量 | X9: 香菇 | Y9: 5 | AB9: =Y9/100 -> 0.05 | AE9: 九層塔 | AF9: 適量
J10: 雞蛋 | K10: 20 | M10: =K10/55 -> 0.36363636 | N10: =K10/100 -> 0.2 | Q10: 米血 | R10: 17 | S10: =R10/35 -> 0.48571429 | X10: 味霖 | Y10: 適量 | AE10: 彩椒 | AF10: 10 | AI10: =AF10/100 -> 0.1
J11: 高麗菜 | K11: 60 | N11: =K11/100 -> 0.6 | X11: 柴魚片 | Y11: 適量
A12: 副 食二 | B12: 椰香南瓜咖哩 | C12: 南瓜 | D12: 40 | E12: =D12/85 -> 0.47058824 | P12: 肉燥銀芽（炒） | Q12: 豆芽菜 | R12: 40 | U12: =R12/100 -> 0.4 | W12: 肉燥銀芽（炒） | X12: 豆芽菜 | Y12: 40 | AB12: =Y12/100 -> 0.4 | AD12: 魚香茄子(煮) | AE12: 豬絞肉 | AF12: 25 | AH12: =AF12*0.8/35 -> 0.57142857
C13: 胡蘿蔔 | D13: 15 | G13: =D13/100 -> 0.15 | Q13: 絞肉 | R13: 25 | T13: =R13*0.8/35 -> 0.57142857 | X13: 絞肉 | Y13: 25 | AA13: =Y13*0.8/35 -> 0.57142857 | AE13: 九層塔 | AF13: 適量
C14: 馬鈴薯 | D14: 20 | E14: =D14/90 -> 0.22222222 | Q14: 紅蘿蔔 | R14: 5 | U14: =T14/100 -> 0 | X14: 紅蘿蔔 | Y14: 5 | AB14: =AA14/100 -> 0 | AE14: 長茄子 | AF14: 45 | AI14: =AF14/100 -> 0.45
C15: 洋蔥 | D15: 20 | G15: =D15/100 -> 0.2 | AH15: =AF15/140 -> 0
C16: 毛豆 | D16: 30 | F16: =D16/50 -> 0.6
C17: 椰奶 | D17: 12
A18: 副 食三 | B18: 有機蔬菜 | C18: 深色青菜 | D18: 75 | G18: =D18/100 -> 0.75 | I18: 香菇肉羹湯 | J18: 胡蘿蔔 | K18: 6 | N18: =K18/100 -> 0.06 | P18: 有機蔬菜 | Q18: 深色青菜 | R18: 75 | U18: =R18/100 -> 0.75 | W18: 有機蔬菜 | X18: 深色青菜 | Y18: 75 | AB18: =Y18/100 -> 0.75 | AD18: 有機青菜 | AE18: 深色青菜 | AF18: 75 | AI18: =AF18/100 -> 0.75
C19: 地瓜葉、青江菜、菠菜、韭菜花、大.小黃瓜、芥藍、空心菜、雪裡紅、杏菜、油菜、菜豆 | J19: 肉羹 | K19: 15 | M19: =K19/55 -> 0.27272727 | Q19: 高麗菜、絲瓜、大白菜、豆芽菜、鵝白菜、西芹 | X19: 地瓜葉、青江菜、菠菜、韭菜花、大.小黃瓜、芥藍、空心菜、雪裡紅、杏菜、油菜、菜豆 | AE19: 地瓜葉、青江菜、菠菜、韭菜花、大.小黃瓜、芥藍、空心菜、雪裡紅、杏菜、油菜、菜豆
J20: 脆筍絲 | K20: 20 | N20: =K20/100 -> 0.2
J21: 濕香菇 | K21: 12 | N21: =K21/100 -> 0.12
J22: 香菜 | K22: 適量
A23: 湯 | B23: 番茄豆腐湯 | C23: 金針菇 | D23: 10 | G23: =D23/100 -> 0.1 | P23: 黃瓜排骨湯 | Q23: 大黃瓜 | R23: 15 | U23: =R23/100 -> 0.15 | W23: 蘿蔔玉米湯 | X23: 蘿蔔 | Y23: 20 | AB23: =Y23/100 -> 0.2 | AD23: 冬瓜雞肉湯 | AE23: 雞排丁 | AF23: 15 | AH23: =AF23*0.65/35 -> 0.27857143
C24: 豆腐 | D24: 30 | F24: =D24/140 -> 0.21428571 | Q24: 龍骨 | R24: 12 | T24: =R24*0.65/35 -> 0.22285714 | X24: 玉米塊 | Y24: 10 | Z24: =Y24/85 -> 0.11764706 | AE24: 冬瓜 | AF24: 30 | AI24: =AF24/100 -> 0.3
C25: 番茄 | D25: 10 | G25: =D25/100 -> 0.1 | Q25: 薑絲 | R25: 適量 | X25: 芹菜 | Y25: 1 | AE25: 薑絲
C26: 青蔥 | D26: 適量 | X26: 肉絲 | Y26: 15 | AA26: =Y26/35 -> 0.42857143
A28: 水果 | B28: 水果 | I28: 水果 | J28: 鮮奶 | K28: 1份 | P28: 水果 | W28: 水果 | X28: 水果 | Y28: 1份 | AD28: 水果
A29: 其他 | B29: 其他 | C29: =月菜單!#REF! -> #REF! | D29: 1份 | I29: 其他 | P29: 其他 | W29: 其他 | AD29: 其他
A30: 營養供應比例 | B30: 年級 | E30: =SUM(E5:E29) -> 4.6928105 | F30: =SUM(F5:F29) -> 2.5285714 | G30: =SUM(G5:G27) -> 1.65 | I30: 年級 | L30: =SUM(L5:L29) -> 4 | M30: =SUM(M5:M29) -> 1.2077922 | N30: =SUM(N5:N27) -> 1.48 | P30: 年級 | S30: =SUM(S5:S28) -> 4.4857143 | T30: =SUM(T5:T29) -> 2.28 | U30: =SUM(U5:U29) -> 1.3 | W30: 年級 | Z30: =SUM(Z5:Z29) -> 4.1176471 | AA30: =SUM(AA7:AA29) -> 2.8571429 | AB30: =SUM(AB5:AB27) -> 1.6 | AD30: 年級 | AG30: =SUM(AG5:AG27) -> 4 | AH30: =SUM(AH5:AH29) -> 2.5214286 | AI30: =SUM(AI5:AI27) -> 1.6
B31: 全榖雜糧類(份) | D31: =E30 -> 4.6928105 | I31: 全榖雜糧類(份) | K31: =L30 -> 4 | P31: 全榖雜糧類(份) | R31: =S30 -> 4.4857143 | W31: 全榖雜糧類(份) | Y31: =Z30 -> 4.1176471 | AD31: 全榖雜糧類(份) | AF31: =AG30 -> 4
B32: 豆魚蛋肉類(份) | D32: =F30 -> 2.5285714 | I32: 豆魚蛋肉類(份) | K32: =M30 -> 1.2077922 | P32: 豆魚蛋肉類(份) | R32: =T30 -> 2.28 | W32: 豆魚蛋肉類(份) | Y32: =AA30 -> 2.8571429 | AD32: 豆魚蛋肉類(份) | AF32: =AH30 -> 2.5214286
B33: 蔬菜類(份) | D33: =G30 -> 1.65 | I33: 蔬菜類(份) | K33: =N30 -> 1.48 | P33: 蔬菜類(份) | R33: =U30 -> 1.3 | W33: 蔬菜類(份) | Y33: =AB30 -> 1.6 | AD33: 蔬菜類(份) | AF33: =AI30 -> 1.6
B34: 水果類(份) | I34: 水果類(份) | P34: 水果類(份) | W34: 水果類(份) | Y34: 1 | AD34: 水果類(份)
B35: 乳品類(份) | I35: 乳品類(份) | K35: 1 | P35: 乳品類(份) | W35: 乳品類(份) | AD35: 乳品類(份)
B36: 油脂與堅果種子類(份) | D36: 2.5 | I36: 油脂與堅果種子類(份) | K36: 2.3 | P36: 油脂與堅果種子類(份) | R36: 2.4 | W36: 油脂與堅果種子類(份) | Y36: 2.5 | AD36: 油脂與堅果種子類(份) | AF36: 2.5
B37: 熱量(大卡) | D37: =D31*70+D32*75+D33*25+D34*60+D35*120+D36*45 -> 671.88959 | I37: 熱量(大卡) | K37: =K31*70+K32*75+K33*25+K34*60+K35*120+K36*45 -> 631.08442 | P37: 熱量(大卡) | R37: =R31*70+R32*75+R33*25+R34*60+R35*120+R36*45 -> 625.5 | W37: 熱量(大卡) | Y37: =Y31*70+Y32*75+Y33*25+Y34*60+Y35*120+Y36*45 -> 715.02101 | AD37: 熱量(大卡) | AF37: =AF31*70+AF32*75+AF33*25+AF34*60+AF35*120+AF36*45 -> 621.60714
A38: 營養師:陳采瑜 | I38: 午餐秘書: | Y38: 校長:
A39: 本公司一律使用國產豬、牛肉食材
A40: ※每日供應三菜一湯，若遇特殊情形(如颱風天、缺貨、停水【電】)請校方午秘委員允許廠商更改菜單，謝謝!
A41: ※每週1次有機蔬菜。 | AK41: 香菇白菜滷(煮)
...

Sheet 第4週
A1: 屏東縣林邊國中115年10月第四週學生午餐食譜(自設廚房)
A2: 供應人數：460人 | D2: 供應廠商:晶品食品有限公司 | O2: 供應廠商營養師:陳采瑜 | X2: 供應廠商電話:楊小姐0917612565
A3: 日期 | B3: 45584 | D3: 星期一 | I3: 45219 | K3: 星期二 | P3: 45220 | R3: 星期三 | W3: 45221 | Y3: 星期四 | AD3: 45222 | AF3: 星期五
A4: 項目 | B4: 菜名/烹調法 | C4: 食材 | D4: 每人(g) | E4: c | F4: p | G4: v | H4: 學校採購量(kg) | I4: 菜名/烹調法 | J4: 食材 | K4: 每人(g) | L4: c | M4: p | N4: v | O4: 學校採購量(kg) | P4: 菜名/烹調法 | Q4: 食材 | R4: 每人(g) | S4: c | T4: p | U4: v | V4: 學校採購量(kg) | W4: 菜名/烹調法 | X4: 食材 | Y4: 每人(g) | Z4: c | AA4: p | AB4: v | AC4: 學校採購量(kg) | AD4: 菜名/烹調法 | AE4: 食材 | AF4: 每人(g) | AG4: c | AH4: p | AI4: v | AJ4: 學校採購量(kg)
A5: 主食 | B5: 糙米飯 | C5: 白米 | D5: 60 | E5: =D5/20 -> 3 | I5: 米粉 | J5: 米粉(細) | K5: 80 | L5: =K5/30 -> 2.6666667 | P5: 糙米飯 | Q5: 白米 | R5: 60 | S5: =R5/20 -> 3 | W5: 白米飯 | X5: 白米 | Y5: 80 | Z5: =Y5/20 -> 4 | AD5: 糙米飯 | AE5: 白米 | AF5: 60 | AG5: =AF5/20 -> 3
C6: 糙米 | D6: 20 | E6: =D6/20 -> 1 | Q6: 糙米 | R6: 20 | S6: =R6/20 -> 1 | AE6: 糙米 | AF6: 20 | AG6: =AF6/20 -> 1
A7: 副 食一 | B7: 咖哩豬肉(燴) | C7: 肉丁 | D7: 65 | F7: =D7/35 -> 1.8571429 | I7: 米粉羹 | J7: 洋蔥 | K7: 20 | N7: =K7/100 -> 0.2 | P7: 豆豉魚丁(炒) | Q7: 水鯊(不包冰) | R7: 75 | T7: =R7/35 -> 2.1428571 | W7: 泰式檸檬雞(煮) | X7: 光雞丁 | Y7: 90 | AA7: =Y7*0.65/35 -> 1.6714286 | AD7: 香酥雞翅(炸) | AE7: 絞肉 | AF7: 80 | AH7: =AF7*0.8/35 -> 1.8285714
C8: 馬鈴薯 | D8: 30 | E8: =D8/90 -> 0.33333333 | J8: 豬肉絲 | K8: 60 | M8: =K8/35 -> 1.7142857 | Q8: 豆豉 | R8: 適量 | X8: 洋蔥 | Y8: 25 | AB8: =Y8/100 -> 0.25 | AE8: 香菇 | AF8: 10 | AI8: =AF8/100 -> 0.1
C9: 紅蘿蔔 | D9: 15 | G9: =D9/100 -> 0.15 | J9: 紅蘿蔔 | K9: 10 | N9: =K9/100 -> 0.1 | Q9: 小黃瓜 | R9: 20 | U9: =R9/100 -> 0.2 | X9: 番茄 | Y9: 20 | AB9: =Y9/100 -> 0.2 | AE9: 油蔥酥 | AF9: 適量
C10: 洋蔥 | D10: 5 | G10: =D10/100 -> 0.05 | J10: 香菇 | K10: 10 | N10: =K10/100 -> 0.1 | X10: 香菜 | Y10: 適量
J11: 香菜 | K11: 適量 | X11: 魚露 | Y11: 適量
A12: 副 食二 | B12: 麻婆豆腐(煮) | C12: 豆腐 | D12: 60 | F12: =D12/140 -> 0.42857143 | J12: 脆筍絲 | K12: 30 | N12: =K12/100 -> 0.3 | P12: 關東煮(煮) | Q12: 蘿蔔 | R12: 35 | U12: =R12/100 -> 0.35 | W12: 木須炒蛋(炒) | X12: 雞蛋 | Y12: 45 | AA12: =Y12/55 -> 0.81818182 | AD12: 芹菜豆乾(炒) | AE12: 芹菜 | AF12: 25 | AI12: =AF12/100 -> 0.25
C13: 絞肉 | D13: 12 | F13: =D13*0.8/35 -> 0.27428571 | J13: 魚羹 | K13: 20 | M13: =K13/55 -> 0.36363636 | Q13: 黑輪條 | R13: 15 | S13: =R13/70 -> 0.21428571 | X13: 木耳 | Y13: 20 | AB13: =Y13/100 -> 0.2 | AE13: 豆乾 | AF13: 25 | AH13: =AF13/35 -> 0.71428571
C14: 豆瓣醬 | D14: 適量 | J14: 雞蛋 | K14: 25 | M14: =K14/55 -> 0.45454545 | Q14: 香菇 | R14: 10 | U14: =R14/100 -> 0.1 | X14: 青蔥 | Y14: 1 | AB14: =Y14/100 -> 0.01 | AE14: 紅蘿蔔 | AF14: 5 | AI14: =AF14/100 -> 0.05
C15: 青蔥 | D15: 1 | J15: 木耳 | K15: 10 | N15: =K15/100 -> 0.1 | Q15: 玉米塊 | R15: 25 | S15: =R15/85 -> 0.29411765 | X15: 紅蘿蔔 | Y15: 10 | AB15: =Y15/100 -> 0.1 | AE15: 肉絲 | AF15: 20 | AH15: =AF15/35 -> 0.57142857
J16: 金針菇 | K16: 15 | N16: =K16/100 -> 0.15
A17: 副 食三 | B17: 有機蔬菜 | C17: 深色青菜 | D17: 75 | G17: =D17/100 -> 0.75 | J17: 山東白 | K17: 60 | N17: =K17/100 -> 0.6 | P17: 有機蔬菜 | Q17: 深色青菜 | R17: 75 | U17: =R17/100 -> 0.75 | W17: 有機蔬菜 | X17: 深色青菜 | Y17: 75 | AB17: =Y17/100 -> 0.75 | AD17: 有機蔬菜 | AE17: 深色青菜 | AF17: 75 | AI17: =AF17/100 -> 0.75
C18: 地瓜葉、青江菜、菠菜、韭菜花、大.小黃瓜、芥藍、空心菜、雪裡紅、杏菜、油菜、菜豆 | I18: 奶黃包(蒸) | J18: 奶黃包 | K18: 65 | L18: =K18/30 -> 2.1666667 | Q18: 地瓜葉、青江菜、菠菜、韭菜花、大.小黃瓜、芥藍、空心菜、雪裡紅、杏菜、油菜、菜豆 | X18: 高麗菜、絲瓜、大白菜、豆芽菜、鵝白菜、西芹 | AE18: 高麗菜、絲瓜、大白菜、豆芽菜、鵝白菜、西芹
A22: 湯 | B22: 蘿蔔豆皮湯 | C22: 蘿蔔 | D22: 20 | G22: =D22/100 -> 0.2 | P22: 海芽蛋花湯 | Q22: 海帶芽 | R22: 8 | U22: =R22/100 -> 0.08 | W22: 玉米排骨湯 | X22: 玉米塊 | Y22: 15 | Z22: =Y22/85 -> 0.17647059 | AD22: 綠豆湯 | AE22: 綠豆 | AF22: 25 | AG22: =AF22/25 -> 1
C23: 豆皮 | D23: 5 | F23: =D23/30 -> 0.16666667 | Q23: 雞蛋 | R23: 12 | T23: =R23/55 -> 0.21818182 | X23: 青蔥 | Y23: 適量 | AE23: 二砂 | AF23: 5
C24: 芹菜 | D24: 適量 | Q24: 高麗菜 | R24: 20 | U24: =R24/100 -> 0.2 | X24: 龍骨 | Y24: 15 | AA24: =Y24*0.65/35 -> 0.27857143
X25: 高麗菜 | Y25: 25 | AB25: =Y25/100 -> 0.25
A27: 水果 | B27: 水果 | I27: 水果 | J27: 鮮奶 | K27: 1份 | P27: 水果 | W27: 水果 | X27: 水果 | Y27: 1份 | AD27: 水果
A28: 其他 | B28: 其他 | I28: 其他 | P28: 其他 | W28: 其他 | AD28: 其他
A29: 營養供應比例 | B29: 年級 | E29: =SUM(E5:E28) -> 4.3333333 | F29: =SUM(F5:F28) -> 2.7266667 | G29: =SUM(G5:G28) -> 1.15 | I29: 年級 | L29: =SUM(L5:L28) -> 4.8333333 | M29: =SUM(M5:M28) -> 2.5324675 | N29: =SUM(N5:N28) -> 1.55 | P29: 年級 | S29: =SUM(S5:S28) -> 4.5084034 | T29: =SUM(T5:T28) -> 2.361039 | U29: =SUM(U5:U28) -> 1.68 | W29: 年級 | Z29: =SUM(Z5:Z28) -> 4.1764706 | AA29: =SUM(AA5:AA28) -> 2.7681818 | AB29: =SUM(AB5:AB28) -> 1.76 | AD29: 年級 | AG29: =SUM(AG5:AG28) -> 5 | AH29: =SUM(AH5:AH28) -> 3.1142857 | AI29: =SUM(AI5:AI26) -> 1.15
B30: 全榖雜糧類(份) | D30: =E29 -> 4.3333333 | I30: 全榖雜糧類(份) | K30: =L29 -> 4.8333333 | P30: 全榖雜糧類(份) | R30: =S29 -> 4.5084034 | W30: 全榖雜糧類(份) | Y30: =Z29 -> 4.1764706 | AD30: 全榖雜糧類(份) | AF30: =AG29 -> 5
B31: 豆魚蛋肉類(份) | D31: =F29 -> 2.7266667 | I31: 豆魚蛋肉類(份) | K31: =M29 -> 2.5324675 | P31: 豆魚蛋肉類(份) | R31: =T29 -> 2.361039 | W31: 豆魚蛋肉類(份) | Y31: =AA29 -> 2.7681818 | AD31: 豆魚蛋肉類(份) | AF31: =AH29 -> 3.1142857
B32: 蔬菜類(份) | D32: =G29 -> 1.15 | I32: 蔬菜類(份) | K32: =N29 -> 1.55 | P32: 蔬菜類(份) | R32: =U29 -> 1.68 | W32: 蔬菜類(份) | Y32: =AB29 -> 1.76 | AD32: 蔬菜類(份) | AF32: =AI29 -> 1.15
B33: 水果類(份) | I33: 水果類(份) | K33: 1 | P33: 水果類(份) | W33: 水果類(份) | Y33: 1 | AD33: 水果類(份) | AF33: 1
B34: 乳品類(份) | I34: 乳品類(份) | K34: 1 | P34: 乳品類(份) | W34: 乳品類(份) | AD34: 乳品類(份)
B35: 油脂與堅果種子類(份) | D35: 2.5 | I35: 油脂與堅果種子類(份) | K35: 2.5 | P35: 油脂與堅果種子類(份) | R35: 2.5 | W35: 油脂與堅果種子類(份) | Y35: 2.5 | AD35: 油脂與堅果種子類(份) | AF35: 2.5
B36: 熱量(大卡) | D36: =D30*70+D31*75+D32*25+D33*60+D34*120+D35*45 -> 649.08333 | I36: 熱量(大卡) | K36: =K30*70+K31*75+K32*25+K33*60+K34*120+K35*45 -> 859.5184 | P36: 熱量(大卡) | R36: =R30*70+R31*75+R32*25+R33*60+R34*120+R35*45 -> 647.16616 | W36: 熱量(大卡) | Y36: =Y30*70+Y31*75+Y32*25+Y33*60+Y34*120+Y35*45 -> 716.46658 | AD36: 熱量(大卡)
A37: 營養師:陳采瑜 | I37: 午餐秘書: | Y37: 校長:
A38: 本公司一律使用國產豬、牛肉食材
A39: ※每日供應三菜一湯，若遇特殊情形(如颱風天、缺貨、停水【電】)請校方午秘委員允許廠商更改菜單，謝謝!
A40: ※每週1次有機蔬菜。
Q46: =0.004*1000 -> 4

Sheet 第5週
A1: 屏東縣 林邊國中115年10月第五週學生午餐食譜(自設廚房)
A2: 供應人數： 人 | D2: 供應廠商:晶品食品有限公司 | O2: 供應廠商營養師:陳采瑜 | X2: 供應廠商電話:楊小姐0917612565
A3: 日期 | D3: 星期一 | I3: 45226 | K3: 星期二 | P3: 45593 | R3: 星期三 | W3: 45594 | Y3: 星期四 | AD3: 45595 | AF3: 星期五
A4: 項目 | B4: 菜名/烹調法 | C4: 食材 | D4: 每人(g) | E4: c | F4: p | G4: v | H4: 學校採購量(kg) | I4: 菜名/烹調法 | J4: 食材 | K4: 每人(g) | L4: c | M4: p | N4: v | O4: 學校採購量(kg) | P4: 菜名/烹調法 | Q4: 食材 | R4: 每人(g) | S4: c | T4: p | U4: v | V4: 學校採購量(kg) | W4: 菜名/烹調法 | X4: 食材 | Y4: 每人(g) | Z4: c | AA4: p | AB4: v | AC4: 學校採購量(kg) | AD4: 菜名/烹調法 | AE4: 食材 | AF4: 每人(g) | AG4: c | AH4: p | AI4: v | AJ4: 學校採購量(kg)
A5: 主食 | I5: 白米飯 | J5: 白米 | K5: 80 | L5: =K5/20 -> 4 | P5: 糙米飯 | Q5: 白米 | R5: 60 | S5: =R5/20 -> 3 | W5: 白米飯 | X5: 白米 | Y5: 80 | Z5: =Y5/20 -> 4 | AD5: 糙米飯 | AE5: 白米 | AF5: 60 | AG5: =AF5/20 -> 3
Q6: 糙米 | R6: 20 | S6: =R6/20 -> 1 | AE6: 糙米 | AF6: 20 | AG6: =AF6/20 -> 1
A7: 副 食一 | B7: 光復節 | I7: 什錦海鮮湯飯 | J7: 虱目魚丸 | K7: 10 | M7: =K7/50 -> 0.2 | P7: 羅宋燒雞(煮) | Q7: 馬鈴薯 | R7: 20 | S7: =R7/90 -> 0.22222222 | W7: 韓式泡菜鍋(煮) | X7: 韓式泡菜 | Y7: 25 | AB7: =Y7/100 -> 0.25 | AD7: 蜜汁雞腿 | AE7: 雞腿 | AF7: 150 | AH7: =AF7*0.8/35 -> 3.4285714
J8: 油蔥酥 | K8: 適量 | Q8: 光雞丁 | R8: 90 | T8: =R8*0.65/35 -> 1.6714286 | X8: 金針菇 | Y8: 15 | AB8: =Y8/100 -> 0.15 | AE8: 每人一支
J9: 蘿蔔 | K9: 20 | N9: =K9/100 -> 0.2 | Q9: 蕃茄 | R9: 15 | U9: =R9/100 -> 0.15 | X9: 肉片 | Y9: 60 | AA9: =Y9/35 -> 1.7142857
J10: 鮮香菇 | K10: 15 | N10: =K10/100 -> 0.15 | X10: 年糕條 | Y10: 25 | Z10: =Y10/30 -> 0.83333333
J11: 魷魚圈 | K11: 15 | M11: =K11/35 -> 0.42857143
A12: 副 食二 | J12: 肉絲 | K12: 20 | M12: =K12/35 -> 0.57142857 | P12: 白菜肉絲(炒) | Q12: 結球白菜 | R12: 60 | U12: =R12/100 -> 0.6 | W12: 玉米炒蛋(炒) | X12: 玉米 | Y12: 20 | Z12: =Y12/85 -> 0.23529412 | AD12: 玉米炒蛋(炒) | AE12: 玉米 | AF12: 20 | AG12: =AF12/85 -> 0.23529412
J13: 脆筍絲 | K13: 30 | N13: =K13/100 -> 0.3 | Q13: 肉絲 | R13: 20 | T13: =R13/35 -> 0.57142857 | X13: 紅蘿蔔 | Y13: 10 | AB13: =Y13/100 -> 0.1 | AE13: 紅蘿蔔 | AF13: 10 | AI13: =AF13/100 -> 0.1
J14: 芹菜 | K14: 1 | N14: =K14/100 -> 0.01 | Q14: 柴魚片 | R14: 適量 | X14: 雞蛋 | Y14: 40 | AA14: =Y14/55 -> 0.72727273 | AE14: 雞蛋 | AF14: 40 | AH14: =AF14/55 -> 0.72727273
J15: 高麗菜 | K15: 60 | N15: =K15/100 -> 0.6 | X15: 青蔥 | Y15: 1
A17: 副 食三 | I17: 滷蛋 | J17: 雞蛋 | K17: 55 | M17: =K17/55 -> 1 | P17: 有機蔬菜 | Q17: 深色青菜 | R17: 75 | U17: =R17/100 -> 0.75 | W17: 有機蔬菜 | X17: 深色青菜 | Y17: 75 | AB17: =Y17/100 -> 0.75 | AD17: 有機蔬菜 | AE17: 深色青菜 | AF17: 75 | AI17: =AF17/100 -> 0.75
Q18: 高麗菜、絲瓜、大白菜、豆芽菜、鵝白菜、西芹 | X18: 地瓜葉、青江菜、菠菜、韭菜花、大.小黃瓜、芥藍、空心菜、雪裡紅、杏菜、油菜、菜豆 | AE18: 地瓜葉、青江菜、菠菜、韭菜花、大.小黃瓜、芥藍、空心菜、雪裡紅、杏菜、油菜、菜豆
A22: 湯 | P22: 甜薯蛋花湯 | Q22: 雞蛋 | R22: 18 | T22: =R22/55 -> 0.32727273 | W22: 黃瓜雞肉湯 | X22: 排丁 | Y22: 15 | AA22: =Y22*0.65/35 -> 0.27857143 | AD22: 海芽肉絲湯 | AE22: 肉絲 | AF22: 10 | AH22: =AF22/35 -> 0.28571429
Q23: 豆薯 | R23: 25 | S23: =R23/100 -> 0.25 | X23: 大黃瓜 | Y23: 25 | AB23: =Y23/100 -> 0.25 | AE23: 海芽 | AF23: 10 | AI23: =AF23/100 -> 0.1
Q24: 適量 | AE24: 薑絲 | AF24: 適量
A27: 水果 | B27: 水果 | I27: 水果 | J27: 鮮奶 | K27: 1份 | P27: 水果 | W27: 水果 | X27: 水果 | Y27: 1份 | AD27: 水果
A28: 其他 | B28: 其他 | I28: 其他 | P28: 其他 | W28: 其他 | AD28: 其他
A29: 營養供應比例 | B29: 年級 | E29: =SUM(E5:E28) -> 0 | F29: =SUM(F7:F28) -> 0 | G29: =SUM(G5:G28) -> 0 | I29: 年級 | L29: =SUM(L5:L28) -> 4 | M29: =SUM(M5:M26) -> 2.2 | N29: =SUM(N5:N26) -> 1.26 | P29: 年級 | S29: =SUM(S5:S28) -> 4.4722222 | T29: =SUM(T5:T26) -> 2.5701299 | U29: =SUM(U5:U26) -> 1.5 | W29: 年級 | Z29: =SUM(Z5:Z28) -> 5.0686275 | AA29: =SUM(AA5:AA26) -> 2.7201299 | AB29: =SUM(AB5:AB26) -> 1.5 | AD29: 年級 | AG29: =SUM(AG5:AG28) -> 4.2352941 | AH29: =SUM(AH5:AH26) -> 4.4415584 | AI29: =SUM(AI5:AI26) -> 0.95
B30: 全榖雜糧類(份) | D30: =E29 -> 0 | I30: 全榖雜糧類(份) | K30: =L29 -> 4 | P30: 全榖雜糧類(份) | R30: =S29 -> 4.4722222 | W30: 全榖雜糧類(份) | Y30: =Z29 -> 5.0686275 | AD30: 全榖雜糧類(份) | AF30: =AG29 -> 4.2352941
B31: 豆魚蛋肉類(份) | D31: =F29 -> 0 | I31: 豆魚蛋肉類(份) | K31: =M29 -> 2.2 | P31: 豆魚蛋肉類(份) | R31: =T29 -> 2.5701299 | W31: 豆魚蛋肉類(份) | Y31: =AA29 -> 2.7201299 | AD31: 豆魚蛋肉類(份) | AF31: =AH29 -> 4.4415584
B32: 蔬菜類(份) | D32: =G29 -> 0 | I32: 蔬菜類(份) | K32: =N29 -> 1.26 | P32: 蔬菜類(份) | R32: =U29 -> 1.5 | W32: 蔬菜類(份) | Y32: =AB29 -> 1.5 | AD32: 蔬菜類(份) | AF32: =AI29 -> 0.95
B33: 水果類(份) | I33: 水果類(份) | K33: 1 | P33: 水果類(份) | W33: 水果類(份) | Y33: 1 | AD33: 水果類(份) | AF33: 1
B34: 乳品類(份) | I34: 乳品類(份) | P34: 乳品類(份) | W34: 乳品類(份) | AD34: 乳品類(份)
B35: 油脂與堅果種子類(份) | I35: 油脂與堅果種子類(份) | K35: 2.5 | P35: 油脂與堅果種子類(份) | R35: 2.5 | W35: 油脂與堅果種子類(份) | Y35: 2.5 | AD35: 油脂與堅果種子類(份) | AF35: 2.5
B36: 熱量(大卡) | I36: 熱量(大卡) | K36: =K30*70+K31*75+K32*25+K33*60+K34*120+K35*45 -> 649 | P36: 熱量(大卡) | R36: =R30*70+R31*75+R32*25+R33*60+R34*120+R35*45 -> 655.8153 | W36: 熱量(大卡) | Y36: =Y30*70+Y31*75+Y32*25+Y33*60+Y34*120+Y35*45 -> 768.81366 | AD36: 熱量(大卡) | AF36: =AF30*70+AF31*75+AF32*25+AF33*60+AF34*120+AF35*45 -> 825.83747
A37: 營養師:陳采瑜 | I37: 午餐秘書: | Y37: 校長:
A38: 本公司一律使用國產豬、牛肉食材
A39: ※每日供應三菜一湯，若遇特殊情形(如颱風天、缺貨、停水【電】)請校方午秘委員允許廠商更改菜單，謝謝!
A40: ※每週1次有機蔬菜。
