Workbook
Name 湯品: [1]菜單!$F$2:$F$46
Name 湯食: [1]菜單!$G$2:$G$51

Sheet 月菜單
A1: 晶品食品有限公司 屏東縣林邊國民中學 115年11月 午餐菜單 (本校一律使用國產豬肉食材)
A2: 日期 | B2: 星期 | C2: 主食 | D2: 副食 | G2: 湯 | H2: 附註 | I2: 全穀根莖類(份) | J2: 豆魚蛋肉類(份) | K2: 蔬菜類(份) | L2: 油脂與堅果種子類(份) | M2: 水果類(份) | N2: 乳品類(份) | O2: 熱量(kcal)
A3: 11/2 | B3: 一 | C3: =第1週!B5 -> 糙米飯 | D3: =第1週!B7 -> 咖哩雞 | E3: =第1週!B12 -> 洋蔥炒肉絲 | F3: =第1週!B17 -> 有機蔬菜 | G3: =第1週!B22 -> 海芽豆腐湯 | I3: =第1週!D30 -> 5.3695492 | J3: =第1週!D31 -> 2.9337029 | K3: =第1週!D32 -> 1.7415425 | L3: 2.5 | O3: =第1週!D36 -> 639.43472
A4: 11/3 | B4: 二 | C4: =第1週!I5 -> 白米飯 | D4: =第1週!I7 -> 肉絲炒飯 | E4: =第1週!I17 -> 鮮肉包(蒸) | F4: =第1週!I22 -> 枸杞銀蘿湯 | G4: =第1週!J28 -> 牛奶 | H4: =第1週!J27 -> 水果 | I4: =第1週!K30 -> 5.8607843 | J4: =第1週!K31 -> 2.5 | K4: =第1週!K32 -> 1.2353183 | L4: 2.5 | O4: =第1週!K36 -> 921.13786
A5: 11/4 | B5: 三 | C5: =第1週!P5 -> 糙米飯 | D5: =第1週!P7 -> 芋頭繳肉 | E5: =第1週!P12 -> 紅蘿蔔炒蛋 | F5: =第1週!P17 -> 有機蔬菜 | G5: =第1週!P22 -> 胡瓜魚丸湯 | I5: =第1週!R30 -> 5.4837734 | J5: =第1週!R31 -> 2.3552905 | K5: =第1週!R32 -> 1.5833896 | L5: 2.5 | O5: =第1週!R36 -> 712.59567
A6: 11/5 | B6: 四 | C6: =第1週!W5 -> 糙米飯 | D6: =第1週!W7 -> 筍干燒雞 | E6: =第1週!W12 -> 白菜燴馬鈴薯 | F6: =第1週!W17 -> 有機蔬菜 | G6: =第1週!W22 -> 香菇雞湯 | I6: =第1週!Y30 -> 5.2646479 | J6: =第1週!Y31 -> 2.4643649 | K6: =第1週!Y32 -> 1.5803769 | L6: 2.5 | O6: =第1週!Y36 -> 705.36215
A7: 11/6 | B7: 五 | C7: =第1週!AD5 -> 糙米飯 | D7: =第1週!AD7 -> 香酥魚片 | E7: =第1週!AD12 -> 絲瓜麵線 | F7: =第1週!AD17 -> 有機蔬菜 | G7: =第1週!AD22 -> 綠豆蒜 | I7: =第1週!AF30 -> 6.9369958 | J7: =第1週!AF31 -> 2.591285 | K7: =第1週!AF32 -> 1.6251249 | L7: 2.5 | O7: =第1週!AF36 -> 833.0642
A8: 11/9 | B8: 一 | C8: =第2週!B5 -> 糙米飯 | D8: =第2週!B7 -> 香菇燴雞 | E8: =第2週!B12 -> 玉米炒肉末 | F8: =第2週!B17 -> 有機蔬菜 | G8: =第2週!B22 -> 蕃茄蔬菜湯 | I8: =第2週!D30 -> 5.695064 | J8: =第2週!D31 -> 2.8129243 | K8: =第2週!D32 -> 1.43309 | L8: 2.5 | O8: =第2週!D36 -> 645.45105
A9: 11/10 | B9: 二 | C9: =第2週!I5 -> 拉麵 | D9: =第2週!I7 -> 海鮮湯麵 | E9: =第2週!I17 -> 茶碗蒸 | F9: =第2週!J28 -> 牛奶 | H9: =第2週!J27 -> 水果 | I9: =第2週!K30 -> 5 | J9: =第2週!K31 -> 1.374026 | K9: =第2週!K32 -> 0 | L9: 2.5 | O9: =第2週!K36 -> 745.55195
A10: 11/11 | B10: 三 | C10: =第2週!P5 -> 糙米飯 | D10: =第2週!P7 -> 宮保雞丁 | E10: =第2週!P12 -> 黑胡椒油豆腐(炒) | F10: =第2週!P17 -> 有機蔬菜 | G10: =第2週!P22 -> 冬瓜排骨湯 | I10: =第2週!R30 -> 5.0429185 | J10: =第2週!R31 -> 3.5125541 | K10: =第2週!R32 -> 1.5983247 | L10: 2.5 | O10: =第2週!R36 -> 768.90397
A11: 11/12 | B11: 四 | C11: =第2週!W5 -> 糙米飯 | D11: =第2週!W7 -> 泰式打拋肉 | E11: =第2週!W12 -> 芹菜黑輪（拌） | F11: =第2週!W17 -> 有機蔬菜 | G11: =第2週!W22 -> 筍片雞湯 | I11: =第2週!Y30 -> 5.5000613 | J11: =第2週!Y31 -> 3.1843927 | K11: =第2週!Y32 -> 1.4741446 | L11: 2.5 | O11: =第2週!Y36 -> 773.18736
A12: 11/13 | B12: 五 | C12: =第2週!AD5 -> 糙米飯 | D12: =第2週!AD7 -> 香酥雞翅 | E12: =第2週!AD12 -> 蔥爆雙絲(炒) | F12: =第1週!AD17 -> 有機蔬菜 | G12: =第2週!AD22 -> 榨菜肉絲湯 | I12: =第2週!AF30 -> 5.0429185 | J12: =第2週!AF31 -> 3.1285714 | K12: =第2週!AF32 -> 1.4538803 | L12: 2.5 | O12: =第2週!AF36 -> 623.99416
A13: 11/16 | B13: 一 | C13: =第3週!B5 -> 糙米飯 | D13: =第3週!B7 -> 蔥油雞 | E13: =第3週!B12 -> 香菇炒土豆條(炒) | F13: =第3週!B17 -> 有機蔬菜 | G13: =第3週!B22 -> 排骨蘿蔔湯 | I13: =第3週!D30 -> 5.5026886 | J13: =第3週!D31 -> 2.8458832 | K13: =第3週!D32 -> 1.37361 | L13: 2.5 | O13: =第3週!D36 -> 745.46969
A14: 11/17 | B14: 二 | C14: =第3週!I5 -> 白米飯 | D14: =第3週!I7 -> 蔬菜瘦肉粥 | E14: =第3週!I17 -> 沙茶炒滷味 | F14: =第3週!J28 -> 牛奶 | H14: =第3週!J27 -> 水果 | I14: =第3週!K30 -> 5.6386555 | J14: =第3週!K31 -> 2.0142857 | K14: =第3週!K32 -> 0.86 | L14: 2.5 | O14: =第3週!K36 -> 730.77731
A15: 11/18 | B15: 三 | C15: =第3週!P5 -> 糙米飯 | D15: =第3週!P7 -> 奶香燉雞(煮) | E15: =第3週!P12 -> 彩椒肉絲(炒) | F15: =第3週!P17 -> 有機蔬菜 | G15: =第3週!P22 -> 海芽蛋花湯 | I15: =第3週!R30 -> 5.3206962 | J15: =第3週!R31 -> 2.7491444 | K15: =第3週!R32 -> 1.6638803 | L15: =[2]第3週!R35 -> 2.5 | O15: =第3週!R36 -> 732.73157
A16: 11/19 | B16: 四 | C16: =第3週!W5 -> 糙米飯 | D16: =第3週!W7 -> 海鮮肉燥 | E16: =第3週!W12 -> 大滷菜 | F16: =第3週!W17 -> 有機蔬菜 | G16: =第3週!W22 -> 瓜子雞湯 | I16: =第3週!Y30 -> 5.2937651 | J16: =第3週!Y31 -> 3.4637109 | K16: =第3週!Y32 -> 1.773742 | L16: 2.5 | O16: =第3週!Y36 -> 787.18542
A17: 11/20 | B17: 五 | C17: =第3週!AD5 -> 糙米飯 | D17: =第3週!AD7 -> 鹽酥雞 | E17: =第3週!AD12 -> 蕃茄燒豆腐 | F17: =第3週!AD17 -> 有機蔬菜 | G17: =第3週!AD22 -> 紫米桂圓湯 | I17: =第3週!AF30 -> 6.8149589 | J17: =第3週!AF31 -> 3.25724 | K17: =第3週!AF32 -> 1.0984768 | L17: 2.5 | O17: =第3週!AF36 -> 861.30204
A18: 11/23 | B18: 一 | C18: =第4週!B5 -> 糙米飯 | D18: =第4週!B7 -> 蜜汁雞丁 | E18: =第4週!B12 -> 冬瓜燜肉(煮) | F18: =第4週!B17 -> 有機蔬菜 | G18: =第4週!B22 -> 大黃瓜排骨湯 | I18: =第4週!D30 -> 5.0429185 | J18: =第4週!D31 -> 2.8299271 | K18: =第4週!D32 -> 1.8864745 | L18: 2.5 | O18: =第4週!D36 -> 724.91069
A19: 11/24 | B19: 二 | C19: =第4週!I5 -> 麵食 | D19: =第4週!I7 -> 鮮蔬炒麵 | E19: =第4週!I17 -> 紅燒雞丁 | F19: =第4週!I22 -> 黑輪蘿蔔湯 | G19: =第4週!J28 -> 牛奶 | H19: =第4週!J27 -> 水果 | I19: =第4週!K30 -> 6.1437822 | J19: =第4週!K31 -> 3.2917933 | K19: =第4週!K32 -> 1.3710453 | L19: 2.5 | O19: =第4週!K36 -> 1003.7254
A20: 11/25 | B20: 三 | C20: =第4週!P5 -> 糙米飯 | D20: =第4週!P7 -> 三杯雞 | E20: =第4週!P12 -> 玉米炒蛋(炒) | F20: =第4週!P17 -> 有機蔬菜 | G20: =第4週!P22 -> 味噌豆腐湯 | H20: =第4週!Q28 -> 豆奶 | I20: =第4週!R30 -> 6.0823777 | J20: =第4週!R31 -> 2.6014963 | K20: =第4週!R32 -> 1.2256194 | L20: 2.5 | O20: =第4週!R36 -> 764.01915
A21: 11/26 | B21: 四 | C21: =第4週!W5 -> 糙米飯 | D21: =第4週!W7 -> 豆鼓肉片(炒) | E21: =第4週!W12 -> 蕃茄蛋豆腐（煮） | F21: =第4週!W17 -> 有機蔬菜 | G21: =第4週!W22 -> 冬瓜雞肉湯 | I21: =第4週!Y30 -> 5.0429185 | J21: =第4週!Y31 -> 3.2219722 | K21: =第4週!Y32 -> 1.7374393 | L21: 2.5 | O21: =第4週!Y36 -> 750.58819
A22: 11/27 | B22: 五 | C22: =第4週!AD5 -> 糙米飯 | D22: =第4週!AD7 -> 香酥雞翅(炸) | E22: =第4週!AD12 -> 螞蟻上樹 | F22: =第4週!AD17 -> 有機蔬菜 | G22: =第4週!AD22 -> 玉米濃湯 | I22: =第4週!AF30 -> 6.3417249 | J22: =第4週!AF31 -> 2.7554489 | K22: =第4週!AF32 -> 1.3669237 | L22: 2.5 | O22: =第4週!AF36 -> 684.75251
A23: 11/30 | B23: 一 | C23: =第5週!B5 -> 糙米飯 | D23: =第5週!B7 -> 蔥油雞（蒸） | E23: =第5週!B12 -> 麻婆豆腐 | F23: =第5週!B17 -> 有機蔬菜 | G23: =第5週!B22 -> 關東煮湯 | I23: =第5週!D30 -> 5.2546832 | J23: =第5週!D31 -> 3.1571429 | K23: =第5週!D32 -> 1.2669237 | L23: 2.5 | O23: =第5週!D36 -> 748.78663
A24: 營養師:陳采瑜 | D24: 午餐秘書: | G24: 主任: | J24: 校長:
A25: 本公司一律使用國產豬、牛肉食材
A26: ※每日供應三菜一湯，若遇特殊情形(如颱風天、缺貨、停水【電】)請校方午秘委員允許廠商更改菜單，謝謝!
A27: ※每週1次有機蔬菜。

Sheet 第1週
A1: 屏東縣林邊國民中學 115年11月第一週學生午餐食譜(自設廚房)
A2: 供應人數：460人 | H2: 供應廠商:晶品食品有限公司 | J2: 供應廠商:晶品食品有限公司 | S2: 廠商電話:08-7369730
A3: 日期 | B3: 45963 | D3: 星期一 | I3: 45964 | K3: 星期二 | P3: 46330 | R3: 星期三 | W3: 45966 | Y3: 星期四 | AD3: 45967 | AF3: 星期五
A4: 項目 | B4: 菜名/烹調法 | C4: 食材 | D4: 每人(g) | E4: 學校採購量(kg) | F4: c | G4: p | H4: v | I4: 菜名/烹調法 | J4: 食材 | K4: 每人(g) | L4: 學校採購量(kg) | M4: c | N4: p | O4: v | P4: 菜名/烹調法 | Q4: 食材 | R4: 每人(g) | S4: 學校採購量(kg) | T4: c | U4: p | V4: v | W4: 菜名/烹調法 | X4: 食材 | Y4: 每人(g) | Z4: 學校採購量(kg) | AA4: c | AB4: p | AC4: v | AD4: 菜名/烹調法 | AE4: 食材 | AF4: 每人(g) | AG4: 學校採購量(kg) | AH4: c | AI4: p | AJ4: v
A5: 主食 | B5: 糙米飯 | C5: 白米 | D5: 80 | F5: =D5/20 -> 4 | I5: 白米飯 | J5: 白米 | K5: 90 | M5: =K5/20 -> 4.5 | P5: 糙米飯 | Q5: 白米 | R5: 80 | T5: =R5/20 -> 4 | W5: 糙米飯 | X5: 白米 | Y5: =Z5*1000/466 -> 79.399142 | Z5: 37 | AA5: =Y5/20 -> 3.9699571 | AD5: 糙米飯 | AE5: 白米 | AF5: =AG5*1000/466 -> 79.399142 | AG5: 37 | AH5: =AF5/20 -> 3.9699571
C6: 糙米 | D6: 20 | F6: =D6/20 -> 1 | Q6: 糙米 | R6: 20 | T6: =R6/20 -> 1 | X6: 糙米 | Y6: =Z6*1000/466 -> 21.459227 | Z6: 10 | AA6: =Y6/20 -> 1.0729614 | AE6: 糙米 | AF6: =AG6*1000/466 -> 21.459227 | AG6: 10 | AH6: =AF6/20 -> 1.0729614
A7: 副 食一 | B7: 咖哩雞 | C7: 雞胸丁 | D7: =E7*1000/451 -> 86.474501 | E7: 39 | G7: =D7*0.8/35 -> 1.97656 | I7: 肉絲炒飯 | J7: 洋蔥 | K7: =L7*1000/451 -> 26.607539 | L7: 12 | O7: =K7/100 -> 0.26607539 | P7: 芋頭繳肉 | Q7: 絞肉 | R7: =S7*1000/451 -> 84.257206 | S7: 38 | U7: =R7*0.65/35 -> 1.5647767 | W7: 筍干燒雞 | X7: 光雞丁 | Y7: 100 | Z7: 42 | AB7: =Y7*0.65/35 -> 1.8571429 | AD7: 香酥魚片 | AE7: 水鯊魚 | AF7: =AG7*1000/451 -> 84.257206 | AG7: 38 | AI7: =AF7/35 -> 2.4073487
C8: 紅蘿蔔 | D8: =E8*1000/451 -> 19.955654 | E8: 9 | H8: =D8/100 -> 0.19955654 | J8: 高麗菜 | K8: 55 | L8: 20 | O8: =K8/100 -> 0.55 | Q8: 冷凍芋頭 | R8: =S8*1000/451 -> 26.607539 | S8: 12 | T8: =R8/55 -> 0.48377343 | X8: 筍干 | Y8: 25 | Z8: 10 | AC8: =Y8/100 -> 0.25
C9: 馬鈴薯 | D9: =E9*1000/451 -> 33.259424 | E9: 15 | F9: =D9/90 -> 0.36954915 | J9: 毛豆 | K9: 15 | L9: 6 | N9: =K9/50 -> 0.3 | Q9: 青蔥 | R9: =S9*1000/451 -> 1.3303769 | S9: 0.6 | V9: =R9/100 -> 0.013303769 | X9: 青蔥 | Y9: 適量 | Z9: 0.6
J10: 玉米粒 | K10: 25 | L10: 10 | M10: =K10/85 -> 0.29411765 | X10: 辣椒 | Y10: 適量 | Z10: 0.3
J11: 雞蛋 | K11: 55 | L11: 24 | N11: =K11/55 -> 1
A12: 副 食二 | B12: 洋蔥炒肉絲 | C12: 洋蔥 | D12: 50 | H12: =D12/100 -> 0.5 | J12: 青葱 | K12: =L12*1000/451 -> 2.2172949 | L12: 1 | O12: =K12/100 -> 0.022172949 | P12: 紅蘿蔔炒蛋 | Q12: 紅蘿蔔 | R12: =S12*1000/460 -> 54.347826 | S12: 25 | V12: =R12/100 -> 0.54347826 | W12: 白菜燴馬鈴薯 | X12: 山東白菜 | Y12: =Z12*1000/451 -> 44.345898 | Z12: 20 | AC12: =Y12/100 -> 0.44345898 | AD12: 絲瓜麵線 | AE12: 絲瓜 | AF12: =AG12*1000/466 -> 85.83691 | AG12: 40 | AJ12: =AF12/100 -> 0.8583691
C13: 肉絲 | D13: 26 | G13: =D13/35 -> 0.74285714 | J13: 香菇 | K13: 5 | L13: 1 | O13: =K13/100 -> 0.05 | Q13: 雞蛋 | R13: =S13*1000/460 -> 43.478261 | S13: 20 | U13: =R13/55 -> 0.79051383 | X13: 馬鈴薯 | Y13: =Z13*1000/451 -> 19.955654 | Z13: 9 | AA13: =Y13/90 -> 0.22172949 | AE13: 白麵線 | AF13: =AG13*1000/466 -> 6.4377682 | AG13: 3 | AH13: =AF13/15 -> 0.42918455
C14: 木耳 | D14: 10 | H14: =D14/100 -> 0.1 | J14: 肉絲 | K14: 30 | L14: 12 | N14: =K14/35 -> 0.85714286 | Q14: 青蔥 | R14: =S14*1000/460 -> 2.173913 | S14: 1 | X14: 胡蘿蔔 | Y14: =Z14*1000/451 -> 6.6518847 | Z14: 3 | AC14: =Y14/100 -> 0.066518847 | AE14: 薑絲 | AF14: =AG14*1000/466 -> 1.2875536 | AG14: 0.6 | AJ14: =AF14/100 -> 0.012875536
C15: 紅蘿蔔 | D15: 10 | H15: =D15/100 -> 0.1 | J15: 紅蘿蔔 | K15: 10 | L15: 4 | O15: =K15/100 -> 0.1 | X15: 炸豆包 | Y15: =Z15*1000/451 -> 19.955654 | Z15: 9 | AB15: =Y15/35 -> 0.57016155 | AE15: 青蔥 | AF15: =AG15*1000/466 -> 0.64377682 | AG15: 0.3
AE16: 絞肉 | AF16: =AG16*1000/466 -> 6.4377682 | AG16: 3 | AI16: =AF16/35 -> 0.18393624
A17: 副 食三 | B17: 有機蔬菜 | C17: 有機蔬菜 | D17: =E17*1000/451 -> 75.388027 | E17: 34 | H17: =D17/100 -> 0.75388027 | I17: 鮮肉包(蒸) | J17: 鮮肉包 | K17: 40 | M17: =K17*0.8/30 -> 1.0666667 | N17: =K17*0.3/35 -> 0.34285714 | P17: 有機蔬菜 | Q17: 有機蔬菜 | R17: =S17*1000/451 -> 75.388027 | S17: 34 | V17: =R17/100 -> 0.75388027 | W17: 有機蔬菜 | X17: 有機蔬菜 | Y17: =Z17*1000/451 -> 75.388027 | Z17: 34 | AC17: =Y17/100 -> 0.75388027 | AD17: 有機蔬菜 | AE17: 有機蔬菜 | AF17: =AG17*1000/451 -> 75.388027 | AG17: 34 | AJ17: =AF17/100 -> 0.75388027
A22: 湯 | B22: 海芽豆腐湯 | C22: 豆腐 | D22: 30 | E22: 45盒 | G22: =D22/140 -> 0.21428571 | I22: 枸杞銀蘿湯 | J22: 雞排丁 | K22: =L22*1000/451 -> 13.303769 | L22: 6 | O22: =K22*0.65/35 -> 0.24707 | P22: 胡瓜魚丸湯 | Q22: 胡瓜 | R22: =S22*1000/451 -> 26.607539 | S22: 12 | V22: =R22/100 -> 0.26607539 | W22: 香菇雞湯 | X22: 香菇 | Y22: =Z22*1000/451 -> 6.6518847 | Z22: 3 | AC22: =Y22/100 -> 0.066518847 | AD22: 綠豆蒜 | AE22: 綠豆蒜 | AF22: =AG22*1000/451 -> 19.955654 | AG22: 9 | AH22: =AF22/25 -> 0.79822616
C23: 海帶芽 | D23: =E23*1000/454 -> 8.8105727 | E23: 4 | H23: =D23/100 -> 0.088105727 | J23: 枸杞 | K23: =L23*1000/451 -> 0 | N23: =K23/50 -> 0 | Q23: 魚丸 | R23: =S23*1000/451 -> 11.086475 | S23: 5 | X23: 排丁 | Y23: =Z23*1000/451 -> 19.955654 | Z23: 9 | AB23: =Y23*0.065/35 -> 0.0370605 | AE23: 桂圓 | AF23: 適量
C24: 味噌 | D24: 適量 | E24: 適量 | J24: 芹菜 | K24: 適量 | L24: 0.3 | Q24: 芹菜 | R24: =S24*1000/451 -> 0.66518847 | S24: 0.3 | V24: =R24/100 -> 0.0066518847 | X24: 薑母 | Y24: =Z24*1000/451 -> 1.3303769 | Z24: 0.6 | AE24: 粉圓 | AF24: 10 | AH24: =AF24/15 -> 0.66666667
C25: 青蔥 | D25: =E25*1000/454 -> 1.3215859 | E25: 0.6 | J25: 蘿蔔 | K25: =L25*1000/451 -> 33.259424 | L25: 15
A27: 水果 | B27: 水果 | I27: 水果 | J27: 水果 | K27: 120 | P27: 水果 | W27: 水果 | AD27: 水果
A28: 其他 | B28: 其他 | I28: 其他 | J28: 牛奶 | K28: 200 | P28: 其他 | W28: 其他 | AD28: 其他
A29: 營養供應比例 | B29: 年級 | F29: =SUM(F5:F28) -> 5.3695492 | G29: =SUM(G5:G28) -> 2.9337029 | H29: =SUM(H5:H28) -> 1.7415425 | I29: 年級 | M29: =SUM(M5:M28) -> 5.8607843 | N29: =SUM(N5:N28) -> 2.5 | O29: =SUM(O5:O28) -> 1.2353183 | P29: 年級 | T29: =SUM(T5:T28) -> 5.4837734 | U29: =SUM(U5:U28) -> 2.3552905 | V29: =SUM(V5:V28) -> 1.5833896 | W29: 年級 | AA29: =SUM(AA5:AA28) -> 5.2646479 | AB29: =SUM(AB5:AB28) -> 2.4643649 | AC29: =SUM(AC5:AC28) -> 1.5803769 | AD29: 年級 | AH29: =SUM(AH5:AH28) -> 6.9369958 | AI29: =SUM(AI5:AI28) -> 2.591285 | AJ29: =SUM(AJ5:AJ28) -> 1.6251249
B30: 全榖雜糧類(份) | D30: =F29 -> 5.3695492 | I30: 全榖雜糧類(份) | K30: =M29 -> 5.8607843 | P30: 全榖雜糧類(份) | R30: =T29 -> 5.4837734 | W30: 全榖雜糧類(份) | Y30: =AA29 -> 5.2646479 | AD30: 全榖雜糧類(份) | AF30: =AH29 -> 6.9369958
B31: 豆魚蛋肉類(份) | D31: =G29 -> 2.9337029 | I31: 豆魚蛋肉類(份) | K31: =N29 -> 2.5 | P31: 豆魚蛋肉類(份) | R31: =U29 -> 2.3552905 | W31: 豆魚蛋肉類(份) | Y31: =AB29 -> 2.4643649 | AD31: 豆魚蛋肉類(份) | AF31: =AI29 -> 2.591285
B32: 蔬菜類(份) | D32: =H29 -> 1.7415425 | I32: 蔬菜類(份) | K32: =O29 -> 1.2353183 | P32: 蔬菜類(份) | R32: =V29 -> 1.5833896 | W32: 蔬菜類(份) | Y32: =AC29 -> 1.5803769 | AD32: 蔬菜類(份) | AF32: =AJ29 -> 1.6251249
B33: 水果類(份) | I33: 水果類(份) | K33: 1 | P33: 水果類(份) | W33: 水果類(份) | AD33: 水果類(份)
B34: 乳品類(份) | I34: 乳品類(份) | K34: 1 | P34: 乳品類(份) | W34: 乳品類(份) | AD34: 乳品類(份)
B35: 油脂與堅果種子類(份) | I35: 油脂與堅果種子類(份) | K35: 2.5 | P35: 油脂與堅果種子類(份) | R35: 2.5 | W35: 油脂與堅果種子類(份) | Y35: 2.5 | AD35: 油脂與堅果種子類(份) | AF35: 2.5
B36: 熱量(大卡) | D36: =D30*70+D31*75+D32*25+D33*60+D34*120+D35*45 -> 639.43472 | I36: 熱量(大卡) | K36: =K30*70+K31*75+K32*25+K33*60+K34*120+K35*45 -> 921.13786 | P36: 熱量(大卡) | R36: =R30*70+R31*75+R32*25+R33*60+R34*120+R35*45 -> 712.59567 | W36: 熱量(大卡) | Y36: =Y30*70+Y31*75+Y32*25+Y33*60+Y34*120+Y35*45 -> 705.36215 | AD36: 熱量(大卡) | AF36: =AF30*70+AF31*75+AF32*25+AF33*60+AF34*120+AF35*45 -> 833.0642
A37: 營養師:陳采瑜 | G37: 主任: | I37: 午餐秘書: | R37: 主任: | Y37: 校長:
A38: 本公司一律使用國產豬、牛肉食材
A39: ※每日供應三菜一湯，若遇特殊情形(如颱風天、缺貨、停水【電】)請校方午秘委員允許廠商更改菜單，謝謝!
A40: ※每週1次有機蔬菜。
AE41: 彩椒杏鮑菇 | AF41: 彩椒 | AG41: =AH41*1000/451 -> 11.086475 | AH41: 5 | AK41: =AG41/100 -> 0.11086475
AF42: 杏鮑菇 | AG42: =AH42*1000/451 -> 26.607539 | AH42: 12 | AK42: =AG42/100 -> 0.26607539
AF43: 豆干片 | AG43: =AH43*1000/451 -> 22.172949 | AH43: 10 | AJ43: =AG43/40 -> 0.55432373
AF44: 青椒 | AG44: =AH44*1000/451 -> 11.086475 | AH44: 5 | AK44: =AG44/100 -> 0.11086475
AF45: 洋蔥 | AG45: =AH45*1000/451 -> 13.303769 | AH45: 6 | AK45: =AG45/100 -> 0.13303769

Sheet Sheet1

Sheet Sheet2

Sheet Sheet3

Sheet 第2週
A1: 屏東縣林邊國民中學 115年11月第二週學生午餐食譜(自設廚房)
A2: 供應人數：460人 | H2: 供應廠商:晶品食品有限公司 | J2: 供應廠商:晶品食品有限公司 | S2: 廠商電話:08-7369730
A3: 日期 | B3: 45970 | D3: 星期一 | I3: 46336 | K3: 星期二 | P3: 46337 | R3: 星期三 | W3: 45973 | Y3: 星期四 | AD3: 45974 | AF3: 星期五
A4: 項目 | B4: 菜名/烹調法 | C4: 食材 | D4: 每人(g) | E4: 學校採購量(kg) | F4: c | G4: p | H4: v | I4: 菜名/烹調法 | J4: 食材 | K4: 每人(g) | L4: 學校採購量(kg) | M4: c | N4: p | O4: v | P4: 菜名/烹調法 | Q4: 食材 | R4: 每人(g) | S4: 學校採購量(kg) | T4: c | U4: p | V4: v | W4: 菜名/烹調法 | X4: 食材 | Y4: 每人(g) | Z4: 學校採購量(kg) | AA4: c | AB4: p | AC4: v | AD4: 菜名/烹調法 | AE4: 食材 | AF4: 每人(g) | AG4: 學校採購量(kg) | AH4: c | AI4: p | AJ4: v
A5: 主食 | B5: 糙米飯 | C5: 白米 | D5: =E5*1000/466 -> 79.399142 | E5: 37 | F5: =D5/20 -> 3.9699571 | I5: 拉麵 | J5: 拉麵 | K5: 150 | M5: =K5/30 -> 5 | P5: 糙米飯 | Q5: 白米 | R5: =S5*1000/466 -> 79.399142 | S5: 37 | T5: =R5/20 -> 3.9699571 | W5: 糙米飯 | X5: 白米 | Y5: =Z5*1000/466 -> 79.399142 | Z5: 37 | AA5: =Y5/20 -> 3.9699571 | AD5: 糙米飯 | AE5: 白米 | AF5: =AG5*1000/466 -> 79.399142 | AG5: 37 | AH5: =AF5/20 -> 3.9699571
C6: 糙米 | D6: =E6*1000/466 -> 21.459227 | E6: 10 | F6: =D6/20 -> 1.0729614 | Q6: 糙米 | R6: =S6*1000/466 -> 21.459227 | S6: 10 | T6: =R6/20 -> 1.0729614 | X6: 糙米 | Y6: =Z6*1000/466 -> 21.459227 | Z6: 10 | AA6: =Y6/20 -> 1.0729614 | AE6: 糙米 | AF6: =AG6*1000/466 -> 21.459227 | AG6: 10 | AH6: =AF6/20 -> 1.0729614
A7: 副 食一 | B7: 香菇燴雞 | C7: 香菇 | D7: =E7*1000/454 -> 11.013216 | E7: 5 | H7: =D7/100 -> 0.11013216 | I7: 海鮮湯麵 | J7: 洋蔥 | K7: 20 | P7: 宮保雞丁 | Q7: 胸肉丁 | R7: 75 | S7: 36 | U7: =R7*0.8/35 -> 1.7142857 | W7: 泰式打拋肉 | X7: 絞肉 | Y7: 80 | AB7: =Y7/35 -> 2.2857143 | AD7: 香酥雞翅 | AE7: 雞翅 | AF7: 100 | AI7: =AF7*0.7/35 -> 2
C8: 胸丁 | D8: =E8*1000/454 -> 90.30837 | E8: 41 | G8: =D8*0.8/35 -> 2.0641913 | J8: 魚丸 | K8: 20 | N8: =K8/50 -> 0.4 | Q8: 豆乾丁 | R8: 25 | S8: 10 | U8: =R8/35 -> 0.71428571 | X8: 番茄 | Y8: 20 | AC8: =Y8/100 -> 0.2 | AE8: 每人一支
C9: 薑片 | D9: =E9*1000/454 -> 1.3215859 | E9: 0.6 | J9: 花枝 | K9: 20 | N9: =K9/50 -> 0.4 | Q9: 青椒 | R9: 10 | S9: 3 | V9: =R9/100 -> 0.1 | X9: 九層塔 | Y9: =Z9*1000/454 -> 0 | AC9: =Y9/100 -> 0
C10: 洋蔥 | D10: =E10*1000/454 -> 17.621145 | E10: 8 | H10: =D10/100 -> 0.17621145 | J10: 絲瓜 | K10: 30 | Q10: 油花生 | R10: =S10*1000/450 -> 2.2222222 | S10: 1 | X10: 檸檬汁 | Y10: 適量
J11: 肉絲 | K11: 15 | Q11: 辣椒 | R11: =S11*1000/450 -> 0.66666667 | S11: 0.3
A12: 副 食二 | B12: 玉米炒肉末 | C12: 玉米粒 | D12: =E12*1000/451 -> 55.432373 | E12: 25 | F12: =D12/85 -> 0.65214556 | J12: 紅蔥頭 | K12: 1 | P12: 黑胡椒油豆腐(炒) | Q12: 油豆腐 | R12: =S12*1000/450 -> 26.666667 | S12: 12 | U12: =R12/55 -> 0.48484848 | W12: 芹菜黑輪（拌） | X12: 芹菜 | Y12: 25 | AC12: =Y12/100 -> 0.25 | AD12: 蔥爆雙絲(炒) | AE12: 洋蔥 | AF12: 40 | AJ12: =AF12/100 -> 0.4
C13: 絞肉 | D13: =E13*1000/451 -> 19.955654 | E13: 9 | G13: =D13/35 -> 0.57016155 | J13: 芹菜 | K13: 適量 | Q13: 彩椒 | R13: =S13*1000/450 -> 11.111111 | S13: 5 | V13: =R13/100 -> 0.11111111 | X13: 黑輪 | Y13: 25 | AA13: =Y13/70 -> 0.35714286 | AE13: 紅蘿蔔 | AF13: 10 | AJ13: =AF13/100 -> 0.1
C14: 木耳 | D14: =E14*1000/451 -> 6.6518847 | E14: 3 | H14: =D14/100 -> 0.066518847 | J14: 海帶芽 | K14: 1 | Q14: 絞肉 | R14: =S14*1000/450 -> 13.333333 | S14: 6 | U14: =R14/35 -> 0.38095238 | X14: 紅蘿蔔 | Y14: 5 | AC14: =Y14/100 -> 0.05 | AE14: 豆干絲 | AF14: 20 | AI14: =AF14/40 -> 0.5
C15: 蔥末 | D15: =E15*1000/451 -> 1.3303769 | E15: 0.6 | H15: =D15/100 -> 0.013303769 | J15: 高麗菜 | K15: 50 | Q15: 洋蔥 | R15: =S15*1000/450 -> 33.333333 | S15: 15 | V15: =R15/100 -> 0.33333333 | X15: 甜薯 | Y15: 10 | AA15: =Y15/100 -> 0.1 | AE15: 豆瓣醬 | AF15: 適量
X16: 肉絲 | Y16: 20 | AB16: =Y16/35 -> 0.57142857 | AE16: 肉絲 | AF16: 12 | AI16: =AF16/35 -> 0.34285714
A17: 副 食三 | B17: 有機蔬菜 | C17: 有機蔬菜 | D17: =E17*1000/451 -> 75.388027 | E17: 34 | H17: =D17/100 -> 0.75388027 | I17: 茶碗蒸 | J17: 雞蛋 | K17: 60 | N17: =K17/140 -> 0.42857143 | P17: 有機蔬菜 | Q17: 有機蔬菜 | R17: =S17*1000/451 -> 75.388027 | S17: 34 | V17: =R17/100 -> 0.75388027 | W17: 有機蔬菜 | X17: 有機蔬菜 | Y17: =Z17*1000/451 -> 75.388027 | Z17: 34 | AC17: =Y17/100 -> 0.75388027 | AD17: 有機蔬菜 | AE17: 有機蔬菜 | AF17: =AG17*1000/451 -> 75.388027 | AG17: 34 | AJ17: =AF17/100 -> 0.75388027
J18: 香菇 | K18: 8 | N18: =K18/55 -> 0.14545455
J19: 毛豆 | K19: 5
J20: 紅蘿蔔 | K20: 5
A22: 湯 | B22: 蕃茄蔬菜湯 | C22: 蕃茄 | D22: 20 | H22: =D22/100 -> 0.2 | P22: 冬瓜排骨湯 | Q22: 冬瓜 | R22: 30 | V22: =R22/100 -> 0.3 | W22: 筍片雞湯 | X22: 排丁 | Y22: =Z22*1000/454 -> 17.621145 | Z22: 8 | AB22: =Y22*0.65/35 -> 0.32724984 | AD22: 榨菜肉絲湯 | AE22: 榨菜 | AF22: 20 | AJ22: =AF22/100 -> 0.2
C23: 金針菇 | D23: 10 | H23: =D23/100 -> 0.1 | Q23: 排骨 | R23: 12 | U23: =R23/55 -> 0.21818182 | X23: 竹筍片 | Y23: =Z23*1000/454 -> 22.026432 | Z23: 10 | AC23: =Y23/100 -> 0.22026432 | AE23: 肉絲 | AF23: 10 | AI23: =AF23/35 -> 0.28571429
C24: 青蔥 | D24: 1.3043478 | H24: =D24/100 -> 0.013043478 | Q24: 芹菜 | R24: 1.3333333 | X24: 薑 | Y24: =Z24*1000/454 -> 2.2026432 | Z24: 1 | AE24: 薑 | AF24: 適量
C25: 豆腐 | D25: 25 | G25: =D25/140 -> 0.17857143 | V25: =R25/100 -> 0
A27: 水果 | B27: 水果 | I27: 水果 | J27: 水果 | K27: 1份 | W27: 水果 | AD27: 水果
A28: 其他 | B28: 其他 | I28: 其他 | J28: 牛奶 | K28: 200ml | W28: 其他 | AD28: 其他
A29: 營養供應比例 | B29: 年級 | F29: =SUM(F5:F28) -> 5.695064 | G29: =SUM(G5:G28) -> 2.8129243 | H29: =SUM(H5:H28) -> 1.43309 | I29: 年級 | M29: =SUM(M5:M28) -> 5 | N29: =SUM(N5:N28) -> 1.374026 | O29: =SUM(O5:O28) -> 0 | P29: 年級 | T29: =SUM(T5:T28) -> 5.0429185 | U29: =SUM(U5:U28) -> 3.5125541 | V29: =SUM(V5:V28) -> 1.5983247 | W29: 年級 | AA29: =SUM(AA5:AA28) -> 5.5000613 | AB29: =SUM(AB5:AB28) -> 3.1843927 | AC29: =SUM(AC5:AC28) -> 1.4741446 | AD29: 年級 | AH29: =SUM(AH5:AH28) -> 5.0429185 | AI29: =SUM(AI5:AI28) -> 3.1285714 | AJ29: =SUM(AJ5:AJ28) -> 1.4538803
B30: 全榖雜糧類(份) | D30: =F29 -> 5.695064 | I30: 全榖雜糧類(份) | K30: =M29 -> 5 | P30: 全榖雜糧類(份) | R30: =T29 -> 5.0429185 | W30: 全榖雜糧類(份) | Y30: =AA29 -> 5.5000613 | AD30: 全榖雜糧類(份) | AF30: =AH29 -> 5.0429185
B31: 豆魚蛋肉類(份) | D31: =G29 -> 2.8129243 | I31: 豆魚蛋肉類(份) | K31: =N29 -> 1.374026 | P31: 豆魚蛋肉類(份) | R31: =U29 -> 3.5125541 | W31: 豆魚蛋肉類(份) | Y31: =AB29 -> 3.1843927 | AD31: 豆魚蛋肉類(份) | AF31: =AI29 -> 3.1285714
B32: 蔬菜類(份) | D32: =H29 -> 1.43309 | I32: 蔬菜類(份) | K32: =O29 -> 0 | P32: 蔬菜類(份) | R32: =V29 -> 1.5983247 | W32: 蔬菜類(份) | Y32: =AC29 -> 1.4741446 | AD32: 蔬菜類(份) | AF32: =AJ29 -> 1.4538803
B33: 水果類(份) | I33: 水果類(份) | K33: 1 | P33: 水果類(份) | W33: 水果類(份) | AD33: 水果類(份)
B34: 乳品類(份) | I34: 乳品類(份) | K34: 1 | P34: 乳品類(份) | W34: 乳品類(份) | AD34: 乳品類(份)
B35: 油脂與堅果種子類(份) | I35: 油脂與堅果種子類(份) | K35: 2.5 | P35: 油脂與堅果種子類(份) | R35: 2.5 | W35: 油脂與堅果種子類(份) | Y35: 2.5 | AD35: 油脂與堅果種子類(份)
B36: 熱量(大卡) | D36: =D30*70+D31*75+D32*25+D33*60+D34*120+D35*45 -> 645.45105 | I36: 熱量(大卡) | K36: =K30*70+K31*75+K32*25+K33*60+K34*120+K35*45 -> 745.55195 | P36: 熱量(大卡) | R36: =R30*70+R31*75+R32*25+R33*60+R34*120+R35*45 -> 768.90397 | W36: 熱量(大卡) | Y36: =Y30*70+Y31*75+Y32*25+Y33*60+Y34*120+Y35*45 -> 773.18736 | AD36: 熱量(大卡) | AF36: =AF30*70+AF31*75+AF32*25+AF33*60+AF34*120+AF35*45 -> 623.99416
A37: 營養師:陳采瑜 | G37: 主任: | I37: 午餐秘書: | R37: 主任: | Y37: 校長:
A38: 本公司一律使用國產豬、牛肉食材
A39: ※每日供應三菜一湯，若遇特殊情形(如颱風天、缺貨、停水【電】)請校方午秘委員允許廠商更改菜單，謝謝!
A40: ※每週1次有機蔬菜。

Sheet 第3週
A1: 屏東縣林邊國民中學 115年11月第三週學生午餐食譜(自設廚房)
A2: 供應人數：460人 | H2: 供應廠商:晶品食品有限公司 | J2: 供應廠商:晶品食品有限公司 | S2: 廠商電話:08-7369730
A3: 日期 | B3: 45977 | D3: 星期一 | I3: 45978 | K3: 星期二 | P3: 46344 | R3: 星期三 | W3: 45980 | Y3: 星期四 | AD3: 45981 | AF3: 星期五
A4: 項目 | B4: 菜名/烹調法 | C4: 材料 | D4: 每人(g) | E4: 學校採購量(kg) | F4: c | G4: p | H4: v | I4: 菜名/烹調法 | J4: 食材 | K4: 每人(g) | L4: 學校採購量(kg) | M4: c | N4: p | O4: v | P4: 菜名/烹調法 | Q4: 食材 | R4: 每人(g) | S4: 學校採購量(kg) | T4: c | U4: p | V4: v | W4: 菜名/烹調法 | X4: 食材 | Y4: 每人(g) | Z4: 學校採購量(kg) | AA4: c | AB4: p | AC4: v | AD4: 菜名/烹調法 | AE4: 食材 | AF4: 每人(g) | AG4: 學校採購量(kg) | AH4: c | AI4: p | AJ4: v
A5: 主食 | B5: 糙米飯 | C5: 白米 | D5: =E5*1000/466 -> 79.399142 | E5: 37 | F5: =D5/20 -> 3.9699571 | I5: 白米飯 | J5: 白米 | K5: 100 | L5: =K5*466/1000 -> 46.6 | M5: =K5/20 -> 5 | P5: 糙米飯 | Q5: 白米 | R5: =S5*1000/466 -> 79.399142 | S5: 37 | T5: =R5/20 -> 3.9699571 | W5: 糙米飯 | X5: 白米 | Y5: =Z5*1000/466 -> 79.399142 | Z5: 37 | AA5: =Y5/20 -> 3.9699571 | AD5: 糙米飯 | AE5: 白米 | AF5: =AG5*1000/466 -> 79.399142 | AG5: 37 | AH5: =AF5/20 -> 3.9699571
C6: 糙米 | D6: =E6*1000/466 -> 21.459227 | E6: 10 | F6: =D6/20 -> 1.0729614 | Q6: 糙米 | R6: =S6*1000/466 -> 21.459227 | S6: 10 | T6: =R6/20 -> 1.0729614 | X6: 糙米 | Y6: =Z6*1000/466 -> 21.459227 | Z6: 10 | AA6: =Y6/20 -> 1.0729614 | AE6: 糙米 | AF6: =AG6*1000/466 -> 21.459227 | AG6: 10 | AH6: =AF6/20 -> 1.0729614
A7: 副 食一 | B7: 蔥油雞 | C7: 雞胸丁 | D7: =E7*1000/435 -> 96.551724 | E7: 42 | G7: =D7*0.8/35 -> 2.2068966 | I7: 蔬菜瘦肉粥 | J7: 絞肉 | K7: 30 | N7: =K7/35 -> 0.85714286 | P7: 奶香燉雞(煮) | Q7: 青花椰 | R7: 20 | V7: =R7*0.8/100 -> 0.16 | W7: 海鮮肉燥 | X7: 魚丁 | Y7: =Z7*1000/450 -> 66.666667 | Z7: 30 | AB7: =Y7/35 -> 1.9047619 | AD7: 鹽酥雞 | AE7: 雞胸肉丁 | AF7: =AG7*1000/460 -> 91.304348 | AG7: 42 | AI7: =AF7/35 -> 2.6086957
C8: 青蔥 | D8: =E8*1000/435 -> 4.5977011 | E8: 2 | H8: =D8/100 -> 0.045977011 | J8: 玉米粒 | K8: 30 | M8: =K8/85 -> 0.35294118 | Q8: 雞腿丁 | R8: 90.128755 | U8: =R8*0.65/35 -> 1.6738197 | X8: 豬絞肉 | Y8: =Z8*1000/450 -> 26.666667 | Z8: 12 | AB8: =Y8/35 -> 0.76190476 | AE8: 黑輪 | AF8: =AG8*1000/460 -> 19.565217 | AG8: 9 | AH8: =AF8/70 -> 0.27950311
J9: 青蔥 | K9: 適量 | Q9: 紅蘿蔔 | R9: 15 | V9: =R9/100 -> 0.15 | X9: 紅蔥頭 | Y9: =Z9*1000/450 -> 2.2222222 | Z9: 1 | AE9: 九層塔 | AF9: =AG9*1000/460 -> 2.173913 | AG9: 1 | AJ9: =AF9/100 -> 0.02173913
J10: 香菇 | K10: 10 | O10: =K10/100 -> 0.1 | Q10: 馬鈴薯 | R10: 25 | T10: =R10/90 -> 0.27777778 | X10: 辣椒 | Y10: =Z10*1000/450 -> 0.66666667 | Z10: 0.3 | AE10: 酸菜絲 | AF10: =AG10*1000/460 -> 4.3478261 | AG10: 2 | AJ10: =AF10/100 -> 0.043478261
J11: 芹菜 | K11: 1 | O11: =K11/100 -> 0.01 | Q11: 保久乳 | R11: 1 | X11: 乾香菇 | Y11: =Z11*1000/450 -> 0.66666667 | Z11: 0.3 | AC11: =Y11/100 -> 0.0066666667
A12: 副 食二 | B12: 香菇炒土豆條(炒) | C12: 香菇 | D12: =E12*1000/435 -> 6.8965517 | E12: 3 | H12: =D12/100 -> 0.068965517 | J12: ) | K12: 15 | N12: =K12/50 -> 0.3 | P12: 彩椒肉絲(炒) | Q12: 青椒 | R12: 10 | V12: =R12/100 -> 0.1 | W12: 大滷菜 | X12: 高麗菜 | Y12: =Z12*1000/469 -> 59.701493 | Z12: 28 | AC12: =Y12/100 -> 0.59701493 | AD12: 蕃茄燒豆腐 | AE12: 蕃茄 | AF12: =AG12*1000/451 -> 26.607539 | AG12: 12 | AJ12: =AF12/100 -> 0.26607539
C13: 馬鈴薯 | D13: =E13*1000/435 -> 41.37931 | E13: 18 | F13: =D13/90 -> 0.45977011 | J13: 紅蘿蔔 | K13: 10 | O13: =K13/100 -> 0.1 | Q13: 肉絲 | R13: 30 | U13: =R13/35 -> 0.85714286 | X13: 金針菇 | Y13: =Z13*1000/469 -> 12.793177 | Z13: 6 | AC13: =Y13/100 -> 0.12793177 | AE13: 絞肉 | AF13: =AG13*1000/451 -> 19.955654 | AG13: 9 | AI13: =AF13/55 -> 0.36283007
C14: 青椒 | D14: =E14*1000/435 -> 11.494253 | E14: 5 | H14: =D14/100 -> 0.11494253 | J14: 高麗菜 | K14: 50 | O14: =K14/100 -> 0.5 | Q14: 彩椒 | R14: 20 | V14: =R14/100 -> 0.2 | X14: 玉米塊 | Y14: =Z14*1000/469 -> 21.321962 | Z14: 10 | AA14: =Y14/85 -> 0.25084661 | AE14: 豆腐 | AF14: 40 | AG14: 65盒 | AI14: =AF14/140 -> 0.28571429
C15: 紅椒 | D15: =E15*1000/435 -> 6.8965517 | E15: 3 | H15: =D15/100 -> 0.068965517 | J15: (皮蛋) | Q15: 洋蔥 | R15: 20 | V15: =R15/100 -> 0.2 | X15: 小豆皮 | Y15: =Z15*1000/469 -> 6.3965885 | Z15: 3 | AB15: =Y15/15 -> 0.42643923 | AE15: 青蔥 | AF15: =AG15*1000/451 -> 1.3303769 | AG15: 0.6 | AJ15: =AF15/100 -> 0.013303769
C16: 肉絲 | D16: =E16*1000/435 -> 13.793103 | E16: 6 | G16: =D16/35 -> 0.39408867 | AE16: 九層塔 | AF16: 適量
A17: 副 食三 | B17: 有機蔬菜 | C17: 有機蔬菜 | D17: =E17*1000/451 -> 75.388027 | E17: 34 | H17: =D17/100 -> 0.75388027 | I17: 沙茶炒滷味 | J17: 米血/20 | K17: 10 | M17: =K17/35 -> 0.28571429 | P17: 有機蔬菜 | Q17: 有機蔬菜 | R17: =S17*1000/451 -> 75.388027 | S17: 34 | V17: =R17/100 -> 0.75388027 | W17: 有機蔬菜 | X17: 有機蔬菜 | Y17: =Z17*1000/451 -> 75.388027 | Z17: 34 | AC17: =Y17/100 -> 0.75388027 | AD17: 有機蔬菜 | AE17: 有機蔬菜 | AF17: =AG17*1000/451 -> 75.388027 | AG17: 34 | AJ17: =AF17/100 -> 0.75388027
J18: 豆干 | K18: 30 | N18: =K18/35 -> 0.85714286
J19: 海帶節 | K19: 15 | O19: =K19/100 -> 0.15
J20: 沙茶醬 | K20: 適量
J21: 九層塔 | K21: 適量
A22: 湯 | B22: 排骨蘿蔔湯 | C22: 龍骨 | D22: =E22*1000/455 -> 13.186813 | E22: 6 | G22: =D22*0.65/35 -> 0.24489796 | P22: 海芽蛋花湯 | Q22: 海帶芽 | R22: 10 | V22: =R22/100 -> 0.1 | W22: 瓜子雞湯 | X22: 醬瓜 | Y22: =Z22*1000/451 -> 6.6518847 | Z22: 3 | AC22: =Y22/100 -> 0.066518847 | AD22: 紫米桂圓湯 | AE22: 紫米 | AF22: =AG22*1000/469 -> 14.925373 | AG22: 7 | AH22: =AF22/20 -> 0.74626866
C23: 蘿蔔 | D23: =E23*1000/455 -> 30.769231 | E23: 14 | H23: =D23/100 -> 0.30769231 | Q23: 雞蛋 | R23: 12 | U23: =R23/55 -> 0.21818182 | X23: 排丁 | Y23: =Z23*1000/451 -> 19.955654 | Z23: 9 | AB23: =Y23*0.65/35 -> 0.370605 | AE23: 白糯米 | AF23: =AG23*1000/469 -> 14.925373 | AG23: 7 | AH23: =AF23/20 -> 0.74626866
C24: 紅蘿蔔 | D24: =E24*1000/455 -> 1.3186813 | E24: 0.6 | H24: =D24/100 -> 0.013186813 | X24: 薑 | Y24: =Z24*1000/451 -> 3.3259424 | Z24: 1.5 | AE24: 桂圓 | AF24: 適量
X25: 蘿蔔 | Y25: =Z25*1000/451 -> 22.172949 | Z25: 10 | AC25: =Y25/100 -> 0.22172949
A27: 水果 | I27: 水果 | J27: 水果 | K27: 1份 | P27: 水果 | W27: 水果 | AD27: 水果
A28: 其他 | B28: 鮮奶 | C28: 200 | D28: =C28*467/1000 -> 93.4 | I28: 其他 | J28: 牛奶 | K28: 200ml | P28: 其他 | W28: 其他 | AD28: 其他
A29: 營養供應比例 | B29: 年級 | F29: =SUM(F5:F28) -> 5.5026886 | G29: =SUM(G5:G28) -> 2.8458832 | H29: =SUM(H5:H26) -> 1.37361 | I29: 年級 | M29: =SUM(M5:M28) -> 5.6386555 | N29: =SUM(N5:N28) -> 2.0142857 | O29: =SUM(O5:O26) -> 0.86 | P29: 年級 | T29: =SUM(T5:T27) -> 5.3206962 | U29: =SUM(U5:U28) -> 2.7491444 | V29: =SUM(V5:V28) -> 1.6638803 | W29: 年級 | AA29: =SUM(AA5:AA28) -> 5.2937651 | AB29: =SUM(AB7:AB28) -> 3.4637109 | AC29: =SUM(AC5:AC26) -> 1.773742 | AD29: 年級 | AH29: =SUM(AH5:AH26) -> 6.8149589 | AI29: =SUM(AI5:AI28) -> 3.25724 | AJ29: =SUM(AJ5:AJ26) -> 1.0984768
B30: 全榖雜糧類(份) | D30: =F29 -> 5.5026886 | I30: 全榖雜糧類(份) | K30: =M29 -> 5.6386555 | P30: 全榖雜糧類(份) | R30: =T29 -> 5.3206962 | W30: 全榖雜糧類(份) | Y30: =AA29 -> 5.2937651 | AD30: 全榖雜糧類(份) | AF30: =AH29 -> 6.8149589
B31: 豆魚蛋肉類(份) | D31: =G29 -> 2.8458832 | I31: 豆魚蛋肉類(份) | K31: =N29 -> 2.0142857 | P31: 豆魚蛋肉類(份) | R31: =U29 -> 2.7491444 | W31: 豆魚蛋肉類(份) | Y31: =AB29 -> 3.4637109 | AD31: 豆魚蛋肉類(份) | AF31: =AI29 -> 3.25724
B32: 蔬菜類(份) | D32: =H29 -> 1.37361 | I32: 蔬菜類(份) | K32: =O29 -> 0.86 | P32: 蔬菜類(份) | R32: =V29 -> 1.6638803 | W32: 蔬菜類(份) | Y32: =AC29 -> 1.773742 | AD32: 蔬菜類(份) | AF32: =AJ29 -> 1.0984768
B33: 水果類(份) | I33: 水果類(份) | K33: 1 | P33: 水果類(份) | W33: 水果類(份) | AD33: 水果類(份)
B34: 乳品類(份) | I34: 乳品類(份) | P34: 乳品類(份) | W34: 乳品類(份) | AD34: 乳品類(份)
B35: 油脂與堅果種子類(份) | D35: 2.5 | I35: 油脂與堅果種子類(份) | K35: 2.3 | P35: 油脂與堅果種子類(份) | R35: 2.5 | W35: 油脂與堅果種子類(份) | Y35: 2.5 | AD35: 油脂與堅果種子類(份) | AF35: 2.5
B36: 熱量(大卡) | D36: =D30*70+D31*75+D32*25+D33*60+D34*120+D35*45 -> 745.46969 | I36: 熱量(大卡) | K36: =K30*70+K31*75+K32*25+K33*60+K34*120+K35*45 -> 730.77731 | P36: 熱量(大卡) | R36: =R30*70+R31*75+R32*25+R33*60+R34*120+R35*45 -> 732.73157 | W36: 熱量(大卡) | Y36: =Y30*70+Y31*75+Y32*25+Y33*60+Y34*120+Y35*45 -> 787.18542 | AD36: 熱量(大卡) | AF36: =AF30*70+AF31*75+AF32*25+AF33*60+AF34*120+AF35*45 -> 861.30204
A37: 營養師:陳采瑜 | G37: 主任: | I37: 午餐秘書: | R37: 主任: | Y37: 校長:
A38: 本公司一律使用國產豬、牛肉食材
A39: ※每日供應三菜一湯，若遇特殊情形(如颱風天、缺貨、停水【電】)請校方午秘委員允許廠商更改菜單，謝謝!
A40: ※每週1次有機蔬菜。

Sheet 第4週
A1: 屏東縣林邊國民中學 115年11月第四週學生午餐食譜(自設廚房)
A2: 供應人數： | D2: 人 | H2: 供應廠商:晶品食品有限公司 | J2: 供應廠商:晶品食品有限公司 | R2: 廠商電話:08-7369730
A3: 日期 | B3: 46349 | D3: 星期一 | I3: 45985 | K3: 星期二 | P3: 46351 | R3: 星期三 | W3: 45987 | Y3: 星期四 | AD3: 45988 | AF3: 星期五
A4: 項目 | B4: 菜名/烹調法 | C4: 食材 | D4: 每人(g) | E4: 學校採購量(kg) | F4: c | G4: p | H4: v | I4: 菜名/烹調法 | J4: 食材 | K4: 每人(g) | L4: 學校採購量(kg) | M4: c | N4: p | O4: v | P4: 菜名/烹調法 | Q4: 食材 | R4: 每人(g) | S4: 學校採購量(kg) | T4: c | U4: p | V4: v | W4: 菜名/烹調法 | X4: 食材 | Y4: 每人(g) | Z4: 學校採購量(kg) | AA4: c | AB4: p | AC4: v | AD4: 菜名/烹調法 | AE4: 食材 | AF4: 每人(g) | AG4: 學校採購量(kg) | AH4: c | AI4: p | AJ4: v
A5: 主食 | B5: 糙米飯 | C5: 白米 | D5: =E5*1000/466 -> 79.399142 | E5: 37 | F5: =D5/20 -> 3.9699571 | I5: 麵食 | J5: 牛排麵 | K5: =L5*1000/470 -> 148.93617 | L5: 70 | M5: =K5/25 -> 5.9574468 | P5: 糙米飯 | Q5: 白米 | R5: =S5*1000/466 -> 79.399142 | S5: 37 | T5: =R5/20 -> 3.9699571 | W5: 糙米飯 | X5: 白米 | Y5: =Z5*1000/466 -> 79.399142 | Z5: 37 | AA5: =Y5/20 -> 3.9699571 | AD5: 糙米飯 | AE5: 白米 | AF5: =AG5*1000/466 -> 79.399142 | AG5: 37 | AH5: =AF5/20 -> 3.9699571
C6: 糙米 | D6: =E6*1000/466 -> 21.459227 | E6: 10 | F6: =D6/20 -> 1.0729614 | Q6: 糙米 | R6: =S6*1000/466 -> 21.459227 | S6: 10 | T6: =R6/20 -> 1.0729614 | X6: 糙米 | Y6: =Z6*1000/466 -> 21.459227 | Z6: 10 | AA6: =Y6/20 -> 1.0729614 | AE6: 糙米 | AF6: =AG6*1000/466 -> 21.459227 | AG6: 10 | AH6: =AF6/20 -> 1.0729614
A7: 副 食一 | B7: 蜜汁雞丁 | C7: 雞胸丁 | D7: 85 | G7: =D7*0.8/35 -> 1.9428571 | I7: 鮮蔬炒麵 | J7: 肉絲 | K7: =L7*1000/470 -> 48.93617 | L7: 23 | N7: =K7/35 -> 1.3981763 | P7: 三杯雞 | Q7: 光雞丁 | R7: =S7*1000/460 -> 91.304348 | S7: 42 | U7: =R7*0.65/35 -> 1.6956522 | W7: 豆鼓肉片(炒) | X7: 肉片 | Y7: =Z7*1000/460 -> 76.086957 | Z7: 35 | AB7: =Y7/35 -> 2.173913 | AD7: 香酥雞翅(炸) | AE7: 雞翅 | AF7: =AG7*1000/460 -> 106.52174 | AG7: 49 | AI7: =AF7*0.65/35 -> 1.9782609
C8: 洋蔥 | D8: 15 | H8: =D8/100 -> 0.15 | J8: 豆芽菜 | K8: =L8*1000/470 -> 21.276596 | L8: 10 | O8: =K8/100 -> 0.21276596 | Q8: 九層塔 | R8: =S8*1000/460 -> 2.173913 | S8: 1 | V8: =R8/100 -> 0.02173913 | X8: 小黃瓜 | Y8: =Z8*1000/460 -> 32.608696 | Z8: 15 | AC8: =Y8/100 -> 0.32608696 | AE8: 蔥 | AF8: =AG8*1000/460 -> 1.3043478 | AG8: 0.6 | AJ8: =AF8/100 -> 0.013043478
C9: 白芝麻 | D9: 適量 | J9: 紅蘿蔔 | K9: =L9*1000/470 -> 4.2553191 | L9: 2 | O9: =K9/100 -> 0.042553191 | Q9: 米血 | R9: =S9*1000/460 -> 26.086957 | S9: 12 | T9: =R9/35 -> 0.74534161 | X9: 紅蘿蔔 | Y9: =Z9*1000/460 -> 6.5217391 | Z9: 3 | AC9: =Y9/100 -> 0.065217391 | AE9: 薑 | AF9: =AG9*1000/460 -> 1.3043478 | AG9: 0.6
J10: 高麗菜 | K10: 50 | L10: 28 | O10: =K10/100 -> 0.5 | Q10: 薑母 | R10: =S10*1000/460 -> 1.3043478 | S10: 0.6 | X10: 豆豉 | Z10: 1包
J11: 魚丸 | K11: =L11*1000/470 -> 19.148936 | L11: 9 | N11: =K11/55 -> 0.34816248
A12: 副 食二 | B12: 冬瓜燜肉(煮) | C12: 冬瓜 | D12: 65 | H12: =D12/100 -> 0.65 | J12: 洋蔥 | K12: =L12*1000/470 -> 12.765957 | L12: 6 | O12: =K12/100 -> 0.12765957 | P12: 玉米炒蛋(炒) | Q12: 玉米 | R12: 25 | T12: =R12/85 -> 0.29411765 | W12: 蕃茄蛋豆腐（煮） | X12: 蕃茄 | Y12: =Z12*1000/451 -> 26.607539 | Z12: 12 | AC12: =Y12/100 -> 0.26607539 | AD12: 螞蟻上樹 | AE12: 冬粉 | AF12: =AG12*1000/460 -> 15.217391 | AG12: 7 | AH12: =AF12/15 -> 1.0144928
C13: 絞肉 | D13: 28 | G13: =D13*0.8/35 -> 0.64 | J13: 木耳 | K13: =L13*1000/470 -> 4.2553191 | L13: 2 | O13: =K13/100 -> 0.042553191 | Q13: 紅蘿蔔丁 | R13: 5 | V13: =R13/100 -> 0.05 | X13: 雞蛋 | Y13: =Z13*1000/451 -> 26.607539 | Z13: 12 | AB13: =Y13/55 -> 0.48377343 | AE13: 紅蘿蔔 | AF13: =AG13*1000/460 -> 8.6956522 | AG13: 4 | AJ13: =AF13/100 -> 0.086956522
C14: 薑絲 | D14: 適量 | J14: 青蔥 | K14: =L14*1000/470 -> 2.1276596 | L14: 1 | O14: =K14/100 -> 0.021276596 | Q14: 雞蛋 | R14: 40 | U14: =R14/55 -> 0.72727273 | X14: 豆腐 | Y14: 40 | Z14: 65盒 | AB14: =Y14/140 -> 0.28571429 | AE14: 芹菜 | AF14: =AG14*1000/460 -> 2.173913 | AG14: 1 | AJ14: =AF14/100 -> 0.02173913
J15: 香菇 | K15: =L15*1000/470 -> 8.5106383 | L15: 4 | O15: =K15/100 -> 0.085106383 | Q15: 洋蔥 | R15: 20 | V15: =R15/100 -> 0.2 | X15: 青蔥 | Y15: =Z15*1000/451 -> 1.3303769 | Z15: 0.6 | AC15: =Y15/100 -> 0.013303769 | AE15: 高麗菜 | AF15: =AG15*1000/460 -> 39.130435 | AG15: 18 | AJ15: =AF15/100 -> 0.39130435
AE16: 豬絞肉 | AF16: =AG16*1000/460 -> 19.565217 | AG16: 9 | AI16: =AF16/35 -> 0.55900621
A17: 副 食三 | B17: 有機蔬菜 | C17: 有機蔬菜 | D17: =E17*1000/451 -> 75.388027 | E17: 34 | H17: =D17/100 -> 0.75388027 | I17: 紅燒雞丁 | J17: 光雞丁 | K17: 85 | N17: =K17/55 -> 1.5454545 | P17: 有機蔬菜 | Q17: 有機蔬菜 | R17: =S17*1000/451 -> 75.388027 | S17: 34 | V17: =R17/100 -> 0.75388027 | W17: 有機蔬菜 | X17: 有機蔬菜 | Y17: =Z17*1000/451 -> 75.388027 | Z17: 34 | AC17: =Y17/100 -> 0.75388027 | AD17: 有機蔬菜 | AE17: 有機蔬菜 | AF17: =AG17*1000/451 -> 75.388027 | AG17: 34 | AJ17: =AF17/100 -> 0.75388027
U18: =R18/35 -> 0
A22: 湯 | B22: 大黃瓜排骨湯 | C22: 大黃瓜 | D22: =E22*1000/451 -> 33.259424 | E22: 15 | H22: =D22/100 -> 0.33259424 | I22: 黑輪蘿蔔湯 | J22: 蘿蔔 | K22: =L22*1000/460 -> 32.608696 | L22: 15 | O22: =K22/100 -> 0.32608696 | P22: 味噌豆腐湯 | Q22: 豆腐 | R22: 25 | U22: =R22/140 -> 0.17857143 | W22: 冬瓜雞肉湯 | X22: 冬瓜 | Y22: 30 | AC22: =Y22/100 -> 0.3 | AD22: 玉米濃湯 | AE22: 玉米粒 | AF22: 10 | AH22: =AF22/85 -> 0.11764706
C23: 龍骨 | D23: =E23*1000/451 -> 13.303769 | E23: 6 | G23: =D23*0.65/35 -> 0.24707 | J23: 黑輪 | K23: =L23*1000/460 -> 13.043478 | L23: 6 | M23: =K23/70 -> 0.1863354 | Q23: 小魚干 | R23: 1 | X23: 雞肉 | Y23: 15 | AB23: =Y23*0.65/35 -> 0.27857143 | AE23: 洋蔥 | AF23: 10 | AJ23: =AF23/100 -> 0.1
C24: 芹菜 | D24: 適量 | E24: 適量 | J24: 大骨 | L24: 6支 | Q24: 高麗菜 | R24: 20 | V24: =R24/100 -> 0.2 | X24: 芹菜 | Y24: 1.2875536 | AC24: =Y24/100 -> 0.012875536 | AE24: 馬鈴薯 | AF24: 15 | AH24: =AF24/90 -> 0.16666667
J25: 芹菜 | K25: =L25*1000/460 -> 1.3043478 | L25: 0.6 | O25: =K25/100 -> 0.013043478 | Q25: 青蔥 | R25: 1.3043478 | AE25: 雞蛋 | AF25: 12 | AI25: =AF25/55 -> 0.21818182
AE26: 玉米濃湯粉 | AF26: 適量
A27: 水果 | B27: 水果 | I27: 水果 | J27: 水果 | K27: 120 | P27: 水果 | W27: 水果 | AD27: 水果
A28: 其他 | B28: 其他 | I28: 其他 | J28: 牛奶 | K28: 200ml | P28: 其他 | Q28: 豆奶 | R28: 200 | S28: =R28*467/1000 -> 93.4 | W28: 其他 | AD28: 其他
A29: 營養供應比例 | B29: 年級 | F29: =SUM(F5:F28) -> 5.0429185 | G29: =SUM(G5:G28) -> 2.8299271 | H29: =SUM(H5:H28) -> 1.8864745 | I29: 年級 | M29: =SUM(M5:M28) -> 6.1437822 | N29: =SUM(N5:N28) -> 3.2917933 | O29: =SUM(O5:O28) -> 1.3710453 | P29: 年級 | T29: =SUM(T5:T28) -> 6.0823777 | U29: =SUM(U5:U28) -> 2.6014963 | V29: =SUM(V5:V28) -> 1.2256194 | W29: 年級 | AA29: =SUM(AA5:AA28) -> 5.0429185 | AB29: =SUM(AB5:AB28) -> 3.2219722 | AC29: =SUM(AC5:AC28) -> 1.7374393 | AD29: 年級 | AH29: =SUM(AH5:AH28) -> 6.3417249 | AI29: =SUM(AI5:AI28) -> 2.7554489 | AJ29: =SUM(AJ5:AJ28) -> 1.3669237
B30: 全榖雜糧類(份) | D30: =F29 -> 5.0429185 | I30: 全榖雜糧類(份) | K30: =M29 -> 6.1437822 | P30: 全榖雜糧類(份) | R30: =T29 -> 6.0823777 | W30: 全榖雜糧類(份) | Y30: =AA29 -> 5.0429185 | AD30: 全榖雜糧類(份) | AF30: =AH29 -> 6.3417249
B31: 豆魚蛋肉類(份) | D31: =G29 -> 2.8299271 | I31: 豆魚蛋肉類(份) | K31: =N29 -> 3.2917933 | P31: 豆魚蛋肉類(份) | R31: =U29 -> 2.6014963 | W31: 豆魚蛋肉類(份) | Y31: =AB29 -> 3.2219722 | AD31: 豆魚蛋肉類(份) | AF31: =AI29 -> 2.7554489
B32: 蔬菜類(份) | D32: =H29 -> 1.8864745 | I32: 蔬菜類(份) | K32: =O29 -> 1.3710453 | P32: 蔬菜類(份) | R32: =V29 -> 1.2256194 | W32: 蔬菜類(份) | Y32: =AC29 -> 1.7374393 | AD32: 蔬菜類(份) | AF32: =AJ29 -> 1.3669237
B33: 水果類(份) | I33: 水果類(份) | K33: 1 | P33: 水果類(份) | W33: 水果類(份) | AD33: 水果類(份)
B34: 乳品類(份) | I34: 乳品類(份) | K34: 1 | P34: 乳品類(份) | W34: 乳品類(份) | AD34: 乳品類(份)
B35: 油脂與堅果種子類(份) | D35: 2.5 | I35: 油脂與堅果種子類(份) | K35: 2.5 | P35: 油脂與堅果種子類(份) | R35: 2.5 | W35: 油脂與堅果種子類(份) | Y35: 2.5 | AD35: 油脂與堅果種子類(份)
B36: 熱量(大卡) | D36: =D30*70+D31*75+D32*25+D33*60+D34*120+D35*45 -> 724.91069 | I36: 熱量(大卡) | K36: =K30*70+K31*75+K32*25+K33*60+K34*120+K35*45 -> 1003.7254 | P36: 熱量(大卡) | R36: =R30*70+R31*75+R32*25+R33*60+R34*120+R35*45 -> 764.01915 | W36: 熱量(大卡) | Y36: =Y30*70+Y31*75+Y32*25+Y33*60+Y34*120+Y35*45 -> 750.58819 | AD36: 熱量(大卡) | AF36: =AF30*70+AF31*75+AF32*25+AF33*60+AF34*120+AF35*45 -> 684.75251
A37: 營養師:陳采瑜 | G37: 主任: | I37: 午餐秘書: | R37: 主任: | Y37: 校長:
A38: 本公司一律使用國產豬、牛肉食材
A39: ※每週1次有機蔬菜。

Sheet 第5週
A1: 屏東縣林邊國民中學 115年11月第五週學生午餐食譜(自設廚房)
A2: 供應人數：460人 | H2: 供應廠商:晶品食品有限公司 | J2: 供應廠商:晶品食品有限公司 | S2: 廠商電話:08-7369730
A3: 日期 | B3: 46356 | D3: 星期一
A4: 項目 | B4: 菜名/烹調法 | C4: 食材 | D4: 每人(g) | E4: 學校採購量(kg) | F4: c | G4: p | H4: v
A5: 主食 | B5: 糙米飯 | C5: 白米 | D5: =E5*1000/466 -> 79.399142 | E5: 37 | F5: =D5/20 -> 3.9699571
C6: 糙米 | D6: =E6*1000/466 -> 21.459227 | E6: 10 | F6: =D6/20 -> 1.0729614
A7: 副 食一 | B7: 蔥油雞（蒸） | C7: 雞腿丁 | D7: 90 | G7: =D7*0.65/35 -> 1.6714286
C8: 洋蔥 | D8: 25 | H8: =D8/100 -> 0.25
C9: 青蔥 | D9: 5 | H9: =D9/100 -> 0.05
F10: =D10/90 -> 0
A12: 副 食二 | B12: 麻婆豆腐 | C12: 豆腐 | D12: 80 | G12: =D12/140 -> 0.57142857 | H12: 116盒
C13: 絞肉 | D13: 25 | G13: =D13/35 -> 0.71428571
C14: 青蔥 | D14: 1.3043478 | H14: =D14/100 -> 0.013043478
A17: 副 食三 | B17: 有機蔬菜 | C17: 有機蔬菜 | D17: 75.388027 | H17: =D17/100 -> 0.75388027
A22: 湯 | B22: 關東煮湯 | C22: 白蘿蔔 | D22: 20 | E22: =D22*1000/451 -> 44.345898 | H22: =D22/100 -> 0.2
C23: 玉米塊 | D23: 18 | F23: =D23/85 -> 0.21176471
C24: 油豆腐 | D24: 10 | G24: =D24/50 -> 0.2
C25: 香菜 | D25: 適量
A27: 水果 | B27: 水果
A28: 其他 | B28: 其他
A29: 營養供應比例 | B29: 年級 | F29: =SUM(F5:F28) -> 5.2546832 | G29: =SUM(G5:G28) -> 3.1571429 | H29: =SUM(H5:H28) -> 1.2669237
B30: 全榖雜糧類(份) | D30: =F29 -> 5.2546832
B31: 豆魚蛋肉類(份) | D31: =G29 -> 3.1571429
B32: 蔬菜類(份) | D32: =H29 -> 1.2669237
B33: 水果類(份)
B34: 乳品類(份)
B35: 油脂與堅果種子類(份) | D35: 2.5
B36: 熱量(大卡) | D36: =D30*70+D31*75+D32*25+D33*60+D34*120+D35*45 -> 748.78663
A37: 營養師:陳采瑜 | G37: 主任: | I37: 午餐秘書: | R37: 主任: | Y37: 校長:
A38: 本公司一律使用國產豬、牛肉食材
A39: ※每日供應三菜一湯，若遇特殊情形(如颱風天、缺貨、停水【電】)請校方午秘委員允許廠商更改菜單，謝謝!
A40: ※每週1次有機蔬菜。
